BEGIN:VCALENDAR
VERSION:2.0
PRODID:-//St. Matthew&#039;s House - ECPv6.15.20//NONSGML v1.0//EN
CALSCALE:GREGORIAN
METHOD:PUBLISH
X-ORIGINAL-URL:https://stmatthewshouse.org
X-WR-CALDESC:Events for St. Matthew&#039;s House
REFRESH-INTERVAL;VALUE=DURATION:PT1H
X-Robots-Tag:noindex
X-PUBLISHED-TTL:PT1H
BEGIN:VTIMEZONE
TZID:America/New_York
BEGIN:DAYLIGHT
TZOFFSETFROM:-0500
TZOFFSETTO:-0400
TZNAME:EDT
DTSTART:20230312T070000
END:DAYLIGHT
BEGIN:STANDARD
TZOFFSETFROM:-0400
TZOFFSETTO:-0500
TZNAME:EST
DTSTART:20231105T060000
END:STANDARD
BEGIN:DAYLIGHT
TZOFFSETFROM:-0500
TZOFFSETTO:-0400
TZNAME:EDT
DTSTART:20240310T070000
END:DAYLIGHT
BEGIN:STANDARD
TZOFFSETFROM:-0400
TZOFFSETTO:-0500
TZNAME:EST
DTSTART:20241103T060000
END:STANDARD
BEGIN:DAYLIGHT
TZOFFSETFROM:-0500
TZOFFSETTO:-0400
TZNAME:EDT
DTSTART:20250309T070000
END:DAYLIGHT
BEGIN:STANDARD
TZOFFSETFROM:-0400
TZOFFSETTO:-0500
TZNAME:EST
DTSTART:20251102T060000
END:STANDARD
END:VTIMEZONE
BEGIN:VEVENT
DTSTART;VALUE=DATE:20240415
DTEND;VALUE=DATE:20240416
DTSTAMP:20260419T122001
CREATED:20230302T231532Z
LAST-MODIFIED:20240626T104426Z
UID:11461-1713139200-1713225599@stmatthewshouse.org
SUMMARY:26th Annual Dean Lind Memorial Golf Classic
DESCRIPTION:https://www.youtube.com/watch?v=uI3NdEW38zw \nNow in its 26th year\, the Dean Lind Memorial Golf Classic is one of the premier and longest-running charity golf events in Southwest Florida. The April 15\, 2024 Classic will be held at the prestigious and beautiful Quarry Golf Club in Naples\, Florida  \nThe Dean Lind Memorial Golf Classic raises critical funds for St. Matthew’s House to support our work to bringing hope\, help and healing to individuals and families experiencing hunger\, homelessness\, poverty and addiction. \n			\n						REGISTRATION NOW OPEN\n					 \nSponsorships AvailableContact events@stmatthewshouse.org \nTHANK YOU TO OUR 2024 DEAN LIND MEMORIAL GOLF CLASSIC SPONSORS\nPLATINUM SPONSOR\n																														 \nGOLD SPONSORS\n															\n															\n															\n																														 \nSILVER SPONSOR\n															\n																														 \nBRONZE SPONSOR\n																														 \nPUTTING GREEN SPONSOR\n															\n																														 \nTEE BOX SPONSOR
URL:https://stmatthewshouse.org/event/annual-dean-lind-memorial-golf-classic-3/
LOCATION:Food
ATTACH;FMTTYPE=image/png:https://stmatthewshouse.org/wp-content/uploads/2024/06/image002-1-1.png
END:VEVENT
END:VCALENDAR