BEGIN:VCALENDAR
VERSION:2.0
PRODID:-//St. Matthew&#039;s House - ECPv6.15.20//NONSGML v1.0//EN
CALSCALE:GREGORIAN
METHOD:PUBLISH
X-ORIGINAL-URL:https://stmatthewshouse.org
X-WR-CALDESC:Events for St. Matthew&#039;s House
REFRESH-INTERVAL;VALUE=DURATION:PT1H
X-Robots-Tag:noindex
X-PUBLISHED-TTL:PT1H
BEGIN:VTIMEZONE
TZID:America/New_York
BEGIN:DAYLIGHT
TZOFFSETFROM:-0500
TZOFFSETTO:-0400
TZNAME:EDT
DTSTART:20220313T070000
END:DAYLIGHT
BEGIN:STANDARD
TZOFFSETFROM:-0400
TZOFFSETTO:-0500
TZNAME:EST
DTSTART:20221106T060000
END:STANDARD
BEGIN:DAYLIGHT
TZOFFSETFROM:-0500
TZOFFSETTO:-0400
TZNAME:EDT
DTSTART:20230312T070000
END:DAYLIGHT
BEGIN:STANDARD
TZOFFSETFROM:-0400
TZOFFSETTO:-0500
TZNAME:EST
DTSTART:20231105T060000
END:STANDARD
BEGIN:DAYLIGHT
TZOFFSETFROM:-0500
TZOFFSETTO:-0400
TZNAME:EDT
DTSTART:20240310T070000
END:DAYLIGHT
BEGIN:STANDARD
TZOFFSETFROM:-0400
TZOFFSETTO:-0500
TZNAME:EST
DTSTART:20241103T060000
END:STANDARD
END:VTIMEZONE
BEGIN:VEVENT
DTSTART;TZID=America/New_York:20231202T180000
DTEND;TZID=America/New_York:20231202T210000
DTSTAMP:20260419T180211
CREATED:20230526T230625Z
LAST-MODIFIED:20240626T104347Z
UID:11521-1701540000-1701550800@stmatthewshouse.org
SUMMARY:Journey's Annual Fundraising Gala
DESCRIPTION:
URL:https://stmatthewshouse.org/event/2023gala/
ATTACH;FMTTYPE=image/png:https://stmatthewshouse.org/wp-content/uploads/2024/06/Journeys-Web_Featured-Image-1.png
END:VEVENT
BEGIN:VEVENT
DTSTART;TZID=America/New_York:20231221T180000
DTEND;TZID=America/New_York:20231221T200000
DTSTAMP:20260419T180211
CREATED:20230525T211009Z
LAST-MODIFIED:20240626T104351Z
UID:11515-1703181600-1703188800@stmatthewshouse.org
SUMMARY:2023 Annual Candlelight Vigil
DESCRIPTION:When: Tuesday\, December 21 at 6 p.m. (sundown) \nWhere: Campbell Lodge Shelter \nWhat: This somber night is the longest and traditionally coldest night of the year. Taking place every year on National Homeless Persons’ Memorial Day\, this event is when we remember those who are without a home and those who’ve passed away in the last year who were in our care.
URL:https://stmatthewshouse.org/event/annual-candlelight-vigil-3/
ATTACH;FMTTYPE=image/png:https://stmatthewshouse.org/wp-content/uploads/2024/06/2021-Annual-Candlelight-Vigil-FB.png
END:VEVENT
END:VCALENDAR