BEGIN:VCALENDAR
VERSION:2.0
PRODID:-//St. Matthew&#039;s House - ECPv6.15.20//NONSGML v1.0//EN
CALSCALE:GREGORIAN
METHOD:PUBLISH
X-ORIGINAL-URL:https://stmatthewshouse.org
X-WR-CALDESC:Events for St. Matthew&#039;s House
REFRESH-INTERVAL;VALUE=DURATION:PT1H
X-Robots-Tag:noindex
X-PUBLISHED-TTL:PT1H
BEGIN:VTIMEZONE
TZID:America/New_York
BEGIN:DAYLIGHT
TZOFFSETFROM:-0500
TZOFFSETTO:-0400
TZNAME:EDT
DTSTART:20200308T070000
END:DAYLIGHT
BEGIN:STANDARD
TZOFFSETFROM:-0400
TZOFFSETTO:-0500
TZNAME:EST
DTSTART:20201101T060000
END:STANDARD
BEGIN:DAYLIGHT
TZOFFSETFROM:-0500
TZOFFSETTO:-0400
TZNAME:EDT
DTSTART:20210314T070000
END:DAYLIGHT
BEGIN:STANDARD
TZOFFSETFROM:-0400
TZOFFSETTO:-0500
TZNAME:EST
DTSTART:20211107T060000
END:STANDARD
BEGIN:DAYLIGHT
TZOFFSETFROM:-0500
TZOFFSETTO:-0400
TZNAME:EDT
DTSTART:20220313T070000
END:DAYLIGHT
BEGIN:STANDARD
TZOFFSETFROM:-0400
TZOFFSETTO:-0500
TZNAME:EST
DTSTART:20221106T060000
END:STANDARD
END:VTIMEZONE
BEGIN:VEVENT
DTSTART;TZID=America/New_York:20211002T090000
DTEND;TZID=America/New_York:20211002T180000
DTSTAMP:20260421T081426
CREATED:20210915T212200Z
LAST-MODIFIED:20240626T103749Z
UID:11404-1633165200-1633197600@stmatthewshouse.org
SUMMARY:Fill the Truck Food Drive
DESCRIPTION:  \nWe only have three weeks left of food in our pantry\, so we need your help to restock for the fall! \nOur goal is to collect enough food to fill our truck and feed 20\,000 families! \n\nHow you can help: \nWhile you’re out doing your grocery shopping\, pick up a few items from our top needs checklist below. Then drop the items off at our truck which will be parked in the Winn-Dixie parking lot (7550 Mission Hills Drive). \n 
URL:https://stmatthewshouse.org/event/fill-the-truck-food-drive-2/
ATTACH;FMTTYPE=image/png:https://stmatthewshouse.org/wp-content/uploads/2024/06/Fill-The-Truck-Food-Drive-TW-1.png
END:VEVENT
BEGIN:VEVENT
DTSTART;TZID=America/New_York:20211021T173000
DTEND;TZID=America/New_York:20211021T193000
DTSTAMP:20260421T081426
CREATED:20210818T235636Z
LAST-MODIFIED:20240626T103739Z
UID:11396-1634837400-1634844600@stmatthewshouse.org
SUMMARY:35th Justin’s Place Recovery Program Graduation Ceremony
DESCRIPTION:Join us for the 35th Justin’s Place Recovery Program Graduation Ceremony on October 21\, 2021. The doors will open at 5:30 p.m. Ceremony begins promptly at 6 p.m. \nThis event will also be livestreamed on Facebook Live and YouTube for those who cannot join us in person. \nWe look forward to celebrating with you as another class of graduates commence their transformed lives. \nTo RSVP\, please fill out the form below. \n\n \nJustin’s Place is named in honor of Justin Holecek. Justin graduated from St. John Neumann High School in 1997\, and the University of Florida in 2002. \nHe was an intelligent young man with a wonderful personality but suffered from the disease of alcoholism. After years of abuse\, Justin died on September 18\, 2009\, at the age of 30. \nIt is our prayer that Justin’s Place will continue to provide recovery in a structured\, spiritual manner to people who reach out with a strong desire for a new beginning and a life free of addiction. \n\n  \n\n \n\n\n \n\nFor more information about this event\, contact Nick Porter at (239) 774-0500\, ext. 161 or nporter@stmatthewshouse.org.
URL:https://stmatthewshouse.org/event/35th-justins-place-recovery-program-graduation-ceremony/
CATEGORIES:Graduation
ATTACH;FMTTYPE=image/jpeg:https://stmatthewshouse.org/wp-content/uploads/2024/06/Cover-Image-800x425-1.jpg
END:VEVENT
BEGIN:VEVENT
DTSTART;TZID=America/New_York:20211023T190000
DTEND;TZID=America/New_York:20211023T203000
DTSTAMP:20260421T081426
CREATED:20211011T182006Z
LAST-MODIFIED:20240626T103756Z
UID:11410-1635015600-1635021000@stmatthewshouse.org
SUMMARY:Florida Everblades Vs. Jacksonville Icemen
DESCRIPTION:Florida Everblades Vs. Jacksonville Icemen \nCheer on the Florida Everblades as they take on the Jacksonville Icemen on October 23! \nPlus\, if you purchase tickets through the link below\, St. Matthew’s House will receive $9 from every ticket sale as a donation. \n[maxbutton id=”1″ url=”https://everblades.spinzo.com/florida-everblades-vs-jacksonville-icemen-2021-10-23-HARRN?group=st-matthews-house–c6kq” text=”Purchase Tickets” window=”new” ]
URL:https://stmatthewshouse.org/event/florida-everblades-vs-jacksonville-icemen/
ATTACH;FMTTYPE=image/png:https://stmatthewshouse.org/wp-content/uploads/2024/06/Everblades-SMH.png
END:VEVENT
BEGIN:VEVENT
DTSTART;TZID=America/New_York:20211030T190000
DTEND;TZID=America/New_York:20211030T203000
DTSTAMP:20260421T081426
CREATED:20211011T183548Z
LAST-MODIFIED:20240626T103758Z
UID:11412-1635620400-1635625800@stmatthewshouse.org
SUMMARY:Florida Everblades Vs. Norfolk Admirals
DESCRIPTION:Florida Everblades Vs. Norfolk Admirals \nCheer on the Florida Everblades as they take on the Norfolk Admirals on October 30! \nPlus\, if you purchase tickets through the link below\, St. Matthew’s House will receive $9 from every ticket sale as a donation. \n[maxbutton id=”1″ url=”https://everblades.spinzo.com/florida-everblades-vs-norfolk-admirals-2021-10-30-ZZNAP?group=st-matthews-house–c6kq” text=”Purchase Tickets” window=”new” ]
URL:https://stmatthewshouse.org/event/florida-everblades-vs-norfolk-admirals/
ATTACH;FMTTYPE=image/png:https://stmatthewshouse.org/wp-content/uploads/2024/06/Everblades-SMH.png
END:VEVENT
END:VCALENDAR