BEGIN:VCALENDAR
VERSION:2.0
PRODID:-//St. Matthew&#039;s House - ECPv6.15.20//NONSGML v1.0//EN
CALSCALE:GREGORIAN
METHOD:PUBLISH
X-ORIGINAL-URL:https://stmatthewshouse.org
X-WR-CALDESC:Events for St. Matthew&#039;s House
REFRESH-INTERVAL;VALUE=DURATION:PT1H
X-Robots-Tag:noindex
X-PUBLISHED-TTL:PT1H
BEGIN:VTIMEZONE
TZID:America/New_York
BEGIN:DAYLIGHT
TZOFFSETFROM:-0500
TZOFFSETTO:-0400
TZNAME:EDT
DTSTART:20200308T070000
END:DAYLIGHT
BEGIN:STANDARD
TZOFFSETFROM:-0400
TZOFFSETTO:-0500
TZNAME:EST
DTSTART:20201101T060000
END:STANDARD
BEGIN:DAYLIGHT
TZOFFSETFROM:-0500
TZOFFSETTO:-0400
TZNAME:EDT
DTSTART:20210314T070000
END:DAYLIGHT
BEGIN:STANDARD
TZOFFSETFROM:-0400
TZOFFSETTO:-0500
TZNAME:EST
DTSTART:20211107T060000
END:STANDARD
BEGIN:DAYLIGHT
TZOFFSETFROM:-0500
TZOFFSETTO:-0400
TZNAME:EDT
DTSTART:20220313T070000
END:DAYLIGHT
BEGIN:STANDARD
TZOFFSETFROM:-0400
TZOFFSETTO:-0500
TZNAME:EST
DTSTART:20221106T060000
END:STANDARD
END:VTIMEZONE
BEGIN:VEVENT
DTSTART;TZID=America/New_York:20210827T190000
DTEND;TZID=America/New_York:20210827T213000
DTSTAMP:20260421T112711
CREATED:20210817T165212Z
LAST-MODIFIED:20240626T103731Z
UID:11388-1630090800-1630099800@stmatthewshouse.org
SUMMARY:Faith & Family Night with the Fort Myers Mighty Mussels
DESCRIPTION:Cheer on the Fort Myers Mighty Mussels as they take on the Bradenton Marauders on Friday\, August 27! \nJoin us for a night of baseball\, family and fun fireworks! \nPlus\, $5 from every ticket will be donated to St. Matthew’s House. \n  \n[maxbutton id=”1″ url=”https://fevo.me/smh” text=”Purchase Tickets” window=”new” ]
URL:https://stmatthewshouse.org/event/faith-family-night-with-the-fort-myers-mighty-mussels/
ATTACH;FMTTYPE=image/png:https://stmatthewshouse.org/wp-content/uploads/2024/06/mighty-mussels.png
END:VEVENT
END:VCALENDAR