BEGIN:VCALENDAR
VERSION:2.0
PRODID:-//St. Matthew&#039;s House - ECPv6.15.20//NONSGML v1.0//EN
CALSCALE:GREGORIAN
METHOD:PUBLISH
X-ORIGINAL-URL:https://stmatthewshouse.org
X-WR-CALDESC:Events for St. Matthew&#039;s House
REFRESH-INTERVAL;VALUE=DURATION:PT1H
X-Robots-Tag:noindex
X-PUBLISHED-TTL:PT1H
BEGIN:VTIMEZONE
TZID:America/New_York
BEGIN:DAYLIGHT
TZOFFSETFROM:-0500
TZOFFSETTO:-0400
TZNAME:EDT
DTSTART:20190310T070000
END:DAYLIGHT
BEGIN:STANDARD
TZOFFSETFROM:-0400
TZOFFSETTO:-0500
TZNAME:EST
DTSTART:20191103T060000
END:STANDARD
BEGIN:DAYLIGHT
TZOFFSETFROM:-0500
TZOFFSETTO:-0400
TZNAME:EDT
DTSTART:20200308T070000
END:DAYLIGHT
BEGIN:STANDARD
TZOFFSETFROM:-0400
TZOFFSETTO:-0500
TZNAME:EST
DTSTART:20201101T060000
END:STANDARD
BEGIN:DAYLIGHT
TZOFFSETFROM:-0500
TZOFFSETTO:-0400
TZNAME:EDT
DTSTART:20210314T070000
END:DAYLIGHT
BEGIN:STANDARD
TZOFFSETFROM:-0400
TZOFFSETTO:-0500
TZNAME:EST
DTSTART:20211107T060000
END:STANDARD
END:VTIMEZONE
BEGIN:VEVENT
DTSTART;TZID=America/New_York:20201022T180000
DTEND;TZID=America/New_York:20201022T190000
DTSTAMP:20260422T011609
CREATED:20201008T214259Z
LAST-MODIFIED:20240626T103646Z
UID:11306-1603389600-1603393200@stmatthewshouse.org
SUMMARY:JUSTIN’S PLACE RECOVERY PROGRAM 10TH ANNIVERSARY GRADUATION CEREMONY
DESCRIPTION:This coming Thursday\, October 22nd we’re celebrating the 10th anniversary of Justin’s Place Recovery Program and we’re inviting you to join us! \n\n\n\nYou are cordially invited to join us\, virtually\, for the live-streaming of our 32nd Justin’s Place Recovery Program Graduation Ceremony. Please join with us in this celebration of hope and renewal as we celebrate the official 10-year anniversary of this life-giving program. \nLive streaming this important event will allow family\, friends and supporters of our graduates and St. Matthew’s House to share in this joyous event honoring our October Justin’s Place Recovery Program graduates. \nWhen: Thursday\, October 22\, at 6:00 p.m. \nIf you would like to receive an email reminder with a direct link to the ceremony\, please email us by CLICKING HERE. You can simply tune into our YouTube Channel to watch it live.
URL:https://stmatthewshouse.org/event/justins-place-recovery-program-10th-anniversary-graduation-ceremony/
ATTACH;FMTTYPE=image/jpeg:https://stmatthewshouse.org/wp-content/uploads/2024/06/JP10-Header-for-website.jpg
END:VEVENT
END:VCALENDAR