BEGIN:VCALENDAR
VERSION:2.0
PRODID:-//St. Matthew&#039;s House - ECPv6.15.20//NONSGML v1.0//EN
CALSCALE:GREGORIAN
METHOD:PUBLISH
X-ORIGINAL-URL:https://stmatthewshouse.org
X-WR-CALDESC:Events for St. Matthew&#039;s House
REFRESH-INTERVAL;VALUE=DURATION:PT1H
X-Robots-Tag:noindex
X-PUBLISHED-TTL:PT1H
BEGIN:VTIMEZONE
TZID:America/New_York
BEGIN:DAYLIGHT
TZOFFSETFROM:-0500
TZOFFSETTO:-0400
TZNAME:EDT
DTSTART:20190310T070000
END:DAYLIGHT
BEGIN:STANDARD
TZOFFSETFROM:-0400
TZOFFSETTO:-0500
TZNAME:EST
DTSTART:20191103T060000
END:STANDARD
BEGIN:DAYLIGHT
TZOFFSETFROM:-0500
TZOFFSETTO:-0400
TZNAME:EDT
DTSTART:20200308T070000
END:DAYLIGHT
BEGIN:STANDARD
TZOFFSETFROM:-0400
TZOFFSETTO:-0500
TZNAME:EST
DTSTART:20201101T060000
END:STANDARD
BEGIN:DAYLIGHT
TZOFFSETFROM:-0500
TZOFFSETTO:-0400
TZNAME:EDT
DTSTART:20210314T070000
END:DAYLIGHT
BEGIN:STANDARD
TZOFFSETFROM:-0400
TZOFFSETTO:-0500
TZNAME:EST
DTSTART:20211107T060000
END:STANDARD
END:VTIMEZONE
BEGIN:VEVENT
DTSTART;TZID=America/New_York:20200604T130000
DTEND;TZID=America/New_York:20200604T170000
DTSTAMP:20260422T062327
CREATED:20200413T231155Z
LAST-MODIFIED:20240626T104625Z
UID:11296-1591275600-1591290000@stmatthewshouse.org
SUMMARY:St. Matthew's House Mobile Food Pantry: NEW LOCATION
DESCRIPTION:With the uncertainty of the COVID-19 crisis\, we have moved to drive-through food distribution. This is held every *Thursday from 1-5 PM at First Baptist Academy in Naples (address below). Bring your Collier County identification or driver’s license.\n\n\nWE HAVE A NEW LOCATION: 3000 Orange Blossom Dr\, Naples\, FL 34109-8919\, United States\n\n \n\n\n*More dates may be added as food becomes available.
URL:https://stmatthewshouse.org/event/st-matthews-house-mobile-food-pantry/
ATTACH;FMTTYPE=image/jpeg:https://stmatthewshouse.org/wp-content/uploads/2024/06/MobileFoodPantry_FB-01.jpg
END:VEVENT
BEGIN:VEVENT
DTSTART;TZID=America/New_York:20200629T180000
DTEND;TZID=America/New_York:20200629T190000
DTSTAMP:20260422T062327
CREATED:20200601T214635Z
LAST-MODIFIED:20240626T103643Z
UID:11304-1593453600-1593457200@stmatthewshouse.org
SUMMARY:Justin's Place Recovery Program 31st Graduation Online Ceremony
DESCRIPTION:This graduation ceremony will be unique as it will be entirely online! Join us from your computer screens\, phones\, and at-home viewing parties on Monday\, June 29th at 6:00pm to celebrate transformed lives. \nWe will be updating this page with the viewing link in the coming weeks\, so make sure you check in later for updated information. We will also be posting the links on Facebook and Instagram\, so make sure you’re following @StMatthewsHouse! \nDon’t want to miss out Email RSVP@stmatthewshouse.org to make sure we send you a link to celebration graduation with us.
URL:https://stmatthewshouse.org/event/justins-place-recovery-program-31st-graduation-online-ceremony/
CATEGORIES:Graduation
ATTACH;FMTTYPE=image/png:https://stmatthewshouse.org/wp-content/uploads/2024/06/JPGrad_Email_Cover.png
END:VEVENT
END:VCALENDAR