BEGIN:VCALENDAR
VERSION:2.0
PRODID:-//St. Matthew&#039;s House - ECPv6.15.20//NONSGML v1.0//EN
CALSCALE:GREGORIAN
METHOD:PUBLISH
X-ORIGINAL-URL:https://stmatthewshouse.org
X-WR-CALDESC:Events for St. Matthew&#039;s House
REFRESH-INTERVAL;VALUE=DURATION:PT1H
X-Robots-Tag:noindex
X-PUBLISHED-TTL:PT1H
BEGIN:VTIMEZONE
TZID:America/New_York
BEGIN:DAYLIGHT
TZOFFSETFROM:-0500
TZOFFSETTO:-0400
TZNAME:EDT
DTSTART:20190310T070000
END:DAYLIGHT
BEGIN:STANDARD
TZOFFSETFROM:-0400
TZOFFSETTO:-0500
TZNAME:EST
DTSTART:20191103T060000
END:STANDARD
BEGIN:DAYLIGHT
TZOFFSETFROM:-0500
TZOFFSETTO:-0400
TZNAME:EDT
DTSTART:20200308T070000
END:DAYLIGHT
BEGIN:STANDARD
TZOFFSETFROM:-0400
TZOFFSETTO:-0500
TZNAME:EST
DTSTART:20201101T060000
END:STANDARD
BEGIN:DAYLIGHT
TZOFFSETFROM:-0500
TZOFFSETTO:-0400
TZNAME:EDT
DTSTART:20210314T070000
END:DAYLIGHT
BEGIN:STANDARD
TZOFFSETFROM:-0400
TZOFFSETTO:-0500
TZNAME:EST
DTSTART:20211107T060000
END:STANDARD
END:VTIMEZONE
BEGIN:VEVENT
DTSTART;TZID=America/New_York:20200414T130000
DTEND;TZID=America/New_York:20200414T170000
DTSTAMP:20260422T091809
CREATED:20200413T231605Z
LAST-MODIFIED:20240626T103631Z
UID:11297-1586869200-1586883600@stmatthewshouse.org
SUMMARY:St. Matthew's House Mobile Food Pantry: Special Date
DESCRIPTION:With the uncertainty of the COVID-19 crisis\, we have moved to drive-through food distribution. This is a special date\, Tuesday 4/14/2020\, from 1-5 PM at 2601 Airport Road S\, Naples\, Florida. Bring your Collier County identification or driver’s license. \n\n\n \n\n\n*More dates may be added as food becomes available.
URL:https://stmatthewshouse.org/event/st-matthews-house-mobile-food-pantry-special-date/
ATTACH;FMTTYPE=image/jpeg:https://stmatthewshouse.org/wp-content/uploads/2024/06/Mobile-Pantry-Update-e1586805732913.jpg
END:VEVENT
BEGIN:VEVENT
DTSTART;TZID=America/New_York:20200427T080000
DTEND;TZID=America/New_York:20200427T170000
DTSTAMP:20260422T091809
CREATED:20200427T213616Z
LAST-MODIFIED:20240626T104629Z
UID:11300-1587974400-1588006800@stmatthewshouse.org
SUMMARY:St. Matthew’s House E-Race Hunger & Homeless 200K!
DESCRIPTION:Covid-19 has caused a lot of us to get creative\, and St. Matthew’s House is no exception! As some of our traditional fundraisers was postponed this year\, we’ve been thinking on our feet new and exciting ways for you to get involved with the mission–so we’re presenting our first ever virtual fundraiser! \n\nLearn More!\n\nAbout The Event \nSt. Matthew’s House E-Race Hunger & Homelessness 200K is a virtual race to raise $200\,000 to help St. Matthew’s House continue to feed the hungry and shelter the homeless in our community during this time of global pandemic. \nAlready we’ve seen massive increases in need for direct assistance. We need to be prepared to meet these rising needs in our community and we need your help to do it! \nThis virtual fundraiser exists completely online\, and is the first of it’s kind for St. Matthew’s House. We need your help to make it a success! \nWhat Can I Do? \nYou can raise money through one-time gifts or donations given for a measurable amount accomplished for an activity you choose. This is event is like a walk-a-thon or other “a-thon” fundraisers\, but as it’s virtual\, you’re not limited in the activity you pick. Get creative! Maybe it’s how many books you read\, fish you catch\, minutes you play\, masks you sew—anything you love to do already can easily turn into a way to erase hunger and homelessness! \nHow Do I Sign Up? \nIf you’d like to participate\, follow these easy steps to get started! \n\nRegister online to create your own fundraising profile to share with friends and family.\nDownload our Participation Guide to walk you through getting starting\, using hashtags\, and more!\nVisit our E-Race Social Media Toolkit to get extra resources like images to share on Facebook that will help kickstart your fundraising campaign!\n\n\nHow To Donate? \nIf you’d rather just make a donation\, either to somebody specific or to the overall E-Race\, just visit our main site here using the button below. You’ll be able to view teams\, E-Racers\, and see how we’re doing making our goal! You can also share this link on your social media after you’ve made a donation to encourage your friends and family. \n\nMake A Donation\n\nCan I Become a Sponsor? \nYes! We’d love it if you decided to sponsor the St. Matthew’s House E-Race Hunger & Homeless 200K! Click the button below for more details! \n\nBecome A Sponsor\n\nThank you for helping us make this virtual event a success! We can’t wait to see all the creative ways you share on social media about how you’re bringing awareness and supporting St. Matthew’s House.
URL:https://stmatthewshouse.org/event/st-matthews-house-e-race-hunger-homeless-200k/
ATTACH;FMTTYPE=image/png:https://stmatthewshouse.org/wp-content/uploads/2024/06/Facebook_Erace-01.png
END:VEVENT
BEGIN:VEVENT
DTSTART;TZID=America/New_York:20200427T130000
DTEND;TZID=America/New_York:20200427T170000
DTSTAMP:20260422T091809
CREATED:20200422T202828Z
LAST-MODIFIED:20240626T103633Z
UID:11299-1587992400-1588006800@stmatthewshouse.org
SUMMARY:Fort Myers Mobile Food Pantry
DESCRIPTION:We’ll be distributing food with Mission Community Church this coming Monday\, April 27th\, from 1-5 PM (while supplies last). 
URL:https://stmatthewshouse.org/event/fort-myers-mobile-food-pantry/
ATTACH;FMTTYPE=image/jpeg:https://stmatthewshouse.org/wp-content/uploads/2024/06/Mobile-Pantry-Update-e1586805732913.jpg
END:VEVENT
END:VCALENDAR