BEGIN:VCALENDAR
VERSION:2.0
PRODID:-//St. Matthew&#039;s House - ECPv6.15.20//NONSGML v1.0//EN
CALSCALE:GREGORIAN
METHOD:PUBLISH
X-ORIGINAL-URL:https://stmatthewshouse.org
X-WR-CALDESC:Events for St. Matthew&#039;s House
REFRESH-INTERVAL;VALUE=DURATION:PT1H
X-Robots-Tag:noindex
X-PUBLISHED-TTL:PT1H
BEGIN:VTIMEZONE
TZID:America/New_York
BEGIN:DAYLIGHT
TZOFFSETFROM:-0500
TZOFFSETTO:-0400
TZNAME:EDT
DTSTART:20180311T070000
END:DAYLIGHT
BEGIN:STANDARD
TZOFFSETFROM:-0400
TZOFFSETTO:-0500
TZNAME:EST
DTSTART:20181104T060000
END:STANDARD
BEGIN:DAYLIGHT
TZOFFSETFROM:-0500
TZOFFSETTO:-0400
TZNAME:EDT
DTSTART:20190310T070000
END:DAYLIGHT
BEGIN:STANDARD
TZOFFSETFROM:-0400
TZOFFSETTO:-0500
TZNAME:EST
DTSTART:20191103T060000
END:STANDARD
BEGIN:DAYLIGHT
TZOFFSETFROM:-0500
TZOFFSETTO:-0400
TZNAME:EDT
DTSTART:20200308T070000
END:DAYLIGHT
BEGIN:STANDARD
TZOFFSETFROM:-0400
TZOFFSETTO:-0500
TZNAME:EST
DTSTART:20201101T060000
END:STANDARD
END:VTIMEZONE
BEGIN:VEVENT
DTSTART;TZID=America/New_York:20191221T143000
DTEND;TZID=America/New_York:20191221T190000
DTSTAMP:20260422T145007
CREATED:20190925T230951Z
LAST-MODIFIED:20240626T103619Z
UID:11284-1576938600-1576954800@stmatthewshouse.org
SUMMARY:The Longest Night: Student Outreach Event
DESCRIPTION:Poverty. Homelessness. Hunger. Addiction. \nThese are big and complicated problems. \nCome to The Longest Night 2019 to learn how you can be part of the solution. \n\nEvent Details\n \nThe Longest Night is an outreach event for junior high and high school students. We’ve invited local youth ministries to engage directly with some of the biggest and most complicated issues right alongside of us. We believe no person too young and no voice too small to begin learning and advocating for the least of these. The afternoon will conclude with St. Matthew’s House Candlelight Vigil where we will remember\, on the longest night of the year\, those in our care that have passed away in 2019. \n\nQuestions? \nContact David Welch at dwelch@stmatthewshouse.org \n\nEvent Location \nSt. Matthew’s House \n\n2601 Airport Road South\, Naples\nDecember 21\, 2019\n2:30 PM -7:00 PM\nFree Dinner Provided\nRSVP by December 14th
URL:https://stmatthewshouse.org/event/the-longest-night-2019/
LOCATION:FL
ATTACH;FMTTYPE=image/jpeg:https://stmatthewshouse.org/wp-content/uploads/2024/06/The-Longest-Night.jpg
END:VEVENT
BEGIN:VEVENT
DTSTART;TZID=America/New_York:20191221T180000
DTEND;TZID=America/New_York:20191221T193000
DTSTAMP:20260422T145007
CREATED:20190627T000609Z
LAST-MODIFIED:20240626T103607Z
UID:11271-1576951200-1576956600@stmatthewshouse.org
SUMMARY:Candlelight Vigil 2019
DESCRIPTION:National Homeless Persons’ Memorial Day Candlelight Vigil 2019\n \nDecember 21st is the first day of winter and the longest night of the year. \nJoin St. Matthew’s House at the Campbell Lodge in Naples as advocates\, service providers\, homeless and formerly homeless residents\, religious leaders\, and concerned citizens honor the lives and dreams of members of the St. Matthew’s House family who died in 2019. \nDecember 21st\, 6:00 PM at Campbell Lodge (Naples Shelter) \n2001 Airport Road South \nNaples\, FL 34112 \n  \nSt. Matthew’s House Christmas Party at Campbell Lodge \nImmediately following the ceremony\, St. Matthew’s House staff will hold a Christmas party with gifts for our shelter and recovery program residents. For many of our residents at St. Matthew’s House\, this may be the first Christmas in quite some time they receive a new item or article of clothing.
URL:https://stmatthewshouse.org/event/candlelightvigil2019/
LOCATION:FL
ATTACH;FMTTYPE=image/jpeg:https://stmatthewshouse.org/wp-content/uploads/2024/06/DSC_0052WEB.jpg
END:VEVENT
END:VCALENDAR