BEGIN:VCALENDAR
VERSION:2.0
PRODID:-//St. Matthew&#039;s House - ECPv6.15.20//NONSGML v1.0//EN
CALSCALE:GREGORIAN
METHOD:PUBLISH
X-WR-CALNAME:St. Matthew&#039;s House
X-ORIGINAL-URL:https://stmatthewshouse.org
X-WR-CALDESC:Events for St. Matthew&#039;s House
REFRESH-INTERVAL;VALUE=DURATION:PT1H
X-Robots-Tag:noindex
X-PUBLISHED-TTL:PT1H
BEGIN:VTIMEZONE
TZID:America/New_York
BEGIN:DAYLIGHT
TZOFFSETFROM:-0500
TZOFFSETTO:-0400
TZNAME:EDT
DTSTART:20180311T070000
END:DAYLIGHT
BEGIN:STANDARD
TZOFFSETFROM:-0400
TZOFFSETTO:-0500
TZNAME:EST
DTSTART:20181104T060000
END:STANDARD
BEGIN:DAYLIGHT
TZOFFSETFROM:-0500
TZOFFSETTO:-0400
TZNAME:EDT
DTSTART:20190310T070000
END:DAYLIGHT
BEGIN:STANDARD
TZOFFSETFROM:-0400
TZOFFSETTO:-0500
TZNAME:EST
DTSTART:20191103T060000
END:STANDARD
BEGIN:DAYLIGHT
TZOFFSETFROM:-0500
TZOFFSETTO:-0400
TZNAME:EDT
DTSTART:20200308T070000
END:DAYLIGHT
BEGIN:STANDARD
TZOFFSETFROM:-0400
TZOFFSETTO:-0500
TZNAME:EST
DTSTART:20201101T060000
END:STANDARD
END:VTIMEZONE
BEGIN:VEVENT
DTSTART;VALUE=DATE:20191028
DTEND;VALUE=DATE:20191029
DTSTAMP:20260422T173356
CREATED:20190627T000244Z
LAST-MODIFIED:20240626T104639Z
UID:11268-1572220800-1572307199@stmatthewshouse.org
SUMMARY:29th Justin's Place Recovery Program Graduation
DESCRIPTION:  \n29th Justin’s Place Recovery Program Graduation Ceremony\nPlease join us in our celebration of new life! \nMoorings Presbyterian Church \n791 Harbour Drive \nNaples\, FL 34103 \nMonday\, October 28\, 2019 \nDoors open at 5:30 PM \nCeremony begins at 6:00 PM \nKindly RSVP by October 21\, 2019 \n  \nJustin’s’ Place is named in honor of Justin Holecek.  Justin graduated from St. John Neumann High School in 1997\, and the University of Florida in 2002. \nHe was an intelligent young man with a wonderful personality but suffered from the disease of alcoholism. After years of abuse\, Justin died on September 18\, 2009\, at the age of 30. \nIt is our prayer that Justin’s Place will continue to provide recovery in a structured\, spiritual manner to people who reach out with a strong desire for a new beginning and a life free of addiction. \nFor more information\, contact: \nNick Porter\, (239) 774-0500 ext 161\nnporter@stmatthewshouse.org \nInterested in attending?  Sign up below: \n 
URL:https://stmatthewshouse.org/event/29th-justins-place-recovery-program-graduation/
CATEGORIES:Graduation
ATTACH;FMTTYPE=image/jpeg:https://stmatthewshouse.org/wp-content/uploads/2024/06/JustinsPlaceGraduation.jpg
END:VEVENT
END:VCALENDAR