BEGIN:VCALENDAR
VERSION:2.0
PRODID:-//St. Matthew&#039;s House - ECPv6.15.20//NONSGML v1.0//EN
CALSCALE:GREGORIAN
METHOD:PUBLISH
X-ORIGINAL-URL:https://stmatthewshouse.org
X-WR-CALDESC:Events for St. Matthew&#039;s House
REFRESH-INTERVAL;VALUE=DURATION:PT1H
X-Robots-Tag:noindex
X-PUBLISHED-TTL:PT1H
BEGIN:VTIMEZONE
TZID:America/New_York
BEGIN:DAYLIGHT
TZOFFSETFROM:-0500
TZOFFSETTO:-0400
TZNAME:EDT
DTSTART:20180311T070000
END:DAYLIGHT
BEGIN:STANDARD
TZOFFSETFROM:-0400
TZOFFSETTO:-0500
TZNAME:EST
DTSTART:20181104T060000
END:STANDARD
BEGIN:DAYLIGHT
TZOFFSETFROM:-0500
TZOFFSETTO:-0400
TZNAME:EDT
DTSTART:20190310T070000
END:DAYLIGHT
BEGIN:STANDARD
TZOFFSETFROM:-0400
TZOFFSETTO:-0500
TZNAME:EST
DTSTART:20191103T060000
END:STANDARD
BEGIN:DAYLIGHT
TZOFFSETFROM:-0500
TZOFFSETTO:-0400
TZNAME:EDT
DTSTART:20200308T070000
END:DAYLIGHT
BEGIN:STANDARD
TZOFFSETFROM:-0400
TZOFFSETTO:-0500
TZNAME:EST
DTSTART:20201101T060000
END:STANDARD
END:VTIMEZONE
BEGIN:VEVENT
DTSTART;TZID=America/New_York:20190323T100000
DTEND;TZID=America/New_York:20190323T140000
DTSTAMP:20260423T035923
CREATED:20190223T010349Z
LAST-MODIFIED:20240626T103555Z
UID:11257-1553335200-1553349600@stmatthewshouse.org
SUMMARY:4th Annual Harvest Day
DESCRIPTION:About Harvest Day in LaBelle\nOur 4th Annual Harvest Day at the Port LaBelle Inn & Retreat Center is a family-friendly event celebrating the work of the St. Matthew’s House Agricultural Program. On Saturday\, March 23rd from 10 AM to 2 PM\, enjoy educational tours of the gardens\, harvest vegetables\, and pickle your own cucumbers while learning about our seed to table concept and how it relates to recovery and transformation of men and women in our Justin’s Place Recovery Program. \nFree admission and free buffet lunch from 12 PM to 1 PM sponsored by Sprout Catering. \nThis year’s Harvest Day includes: \n\nAgricultural Tours\nCucumber Pickling\nBounce House\nFace Painting\nFood Concessions\nCanoeing\nHay Rides\nFresh Vegetables\nCornhole\nFishing\nThumbprint Art\nLive Music\n\nJoin us for a fun day at Port LaBelle Inn & Retreat Center! \n1563 Oxbow Drive\, \nLaBelle\, FL 33935 \n863-675-4411 \n  \n  \nHarvest Day in LaBelle Event Schedule\n10:00am          Doors Open \n10:30am          Morning Property & Program Tour begins – \nLocation: Gather at Hotel Lobby \n12:15pm         Lunch Presentation \n12:30pm         Lunch Served \nLocation: Hotel Courtyard \n1:10pm           Afternoon Activities Continue \n1:30pm           Afternoon Property & Program Tour begins – \nLocation: Gather at Hotel Lobby \n2:00pm           Event Concludes \n 
URL:https://stmatthewshouse.org/event/4th-annual-harvest-day/
ATTACH;FMTTYPE=image/jpeg:https://stmatthewshouse.org/wp-content/uploads/2024/06/HarvestDayWeb.jpg
END:VEVENT
BEGIN:VEVENT
DTSTART;TZID=America/New_York:20190325T180000
DTEND;TZID=America/New_York:20190325T200000
DTSTAMP:20260423T035923
CREATED:20190213T020617Z
LAST-MODIFIED:20240626T104725Z
UID:11248-1553536800-1553544000@stmatthewshouse.org
SUMMARY:2019 Celebration of Hope
DESCRIPTION:  \n2019 Celebration of Hope\nFor more information about \nCelebration of Hope 2019\, \nemail events@stmatthewshouse.org. \n  \nThank you to our sponsors! \n \n 
URL:https://stmatthewshouse.org/event/2019-celebration-of-hope/
LOCATION:Food
ATTACH;FMTTYPE=image/jpeg:https://stmatthewshouse.org/wp-content/uploads/2024/06/COHDinner.jpg
END:VEVENT
END:VCALENDAR