BEGIN:VCALENDAR
VERSION:2.0
PRODID:-//St. Matthew&#039;s House - ECPv6.15.20//NONSGML v1.0//EN
CALSCALE:GREGORIAN
METHOD:PUBLISH
X-ORIGINAL-URL:https://stmatthewshouse.org
X-WR-CALDESC:Events for St. Matthew&#039;s House
REFRESH-INTERVAL;VALUE=DURATION:PT1H
X-Robots-Tag:noindex
X-PUBLISHED-TTL:PT1H
BEGIN:VTIMEZONE
TZID:UTC
BEGIN:STANDARD
TZOFFSETFROM:+0000
TZOFFSETTO:+0000
TZNAME:UTC
DTSTART:20170101T000000
END:STANDARD
END:VTIMEZONE
BEGIN:VEVENT
DTSTART;TZID=UTC:20180614T170000
DTEND;TZID=UTC:20180614T190000
DTSTAMP:20260423T162815
CREATED:20180601T003155Z
LAST-MODIFIED:20240626T104658Z
UID:11233-1528995600-1529002800@stmatthewshouse.org
SUMMARY:Night of Praise
DESCRIPTION:Join us on Thursday\, June 14th for a Night of Praise under the breezeway at St. Matthew’s House. Exodus featuring Mike Kinnebrew will be leading us in music. Stay after the show for Shop Night at our Naples Boutique Thrift Store and receive 30% off the entire store! \nPlease bring one canned food item for admission. Our Cafe M25 team will be grilling hot dogs and hamburgers for purchase as well.
URL:https://stmatthewshouse.org/event/night-of-praise-3/
ATTACH;FMTTYPE=image/png:https://stmatthewshouse.org/wp-content/uploads/2024/06/NightofPraise_Facebook-01.png
END:VEVENT
BEGIN:VEVENT
DTSTART;TZID=UTC:20180618T180000
DTEND;TZID=UTC:20180618T203000
DTSTAMP:20260423T162815
CREATED:20171024T192712Z
LAST-MODIFIED:20240626T104701Z
UID:11221-1529344800-1529353800@stmatthewshouse.org
SUMMARY:Justin's Place 25th Graduation Ceremony
DESCRIPTION:Join us for the 25th Justin’s Place graduation ceremony.
URL:https://stmatthewshouse.org/event/25th-graduation/
CATEGORIES:Graduation
ATTACH;FMTTYPE=image/jpeg:https://stmatthewshouse.org/wp-content/uploads/2024/06/Graduation2018.jpg
END:VEVENT
END:VCALENDAR