BEGIN:VCALENDAR
VERSION:2.0
PRODID:-//St. Matthew&#039;s House - ECPv6.15.20//NONSGML v1.0//EN
CALSCALE:GREGORIAN
METHOD:PUBLISH
X-ORIGINAL-URL:https://stmatthewshouse.org
X-WR-CALDESC:Events for St. Matthew&#039;s House
REFRESH-INTERVAL;VALUE=DURATION:PT1H
X-Robots-Tag:noindex
X-PUBLISHED-TTL:PT1H
BEGIN:VTIMEZONE
TZID:UTC
BEGIN:STANDARD
TZOFFSETFROM:+0000
TZOFFSETTO:+0000
TZNAME:UTC
DTSTART:20170101T000000
END:STANDARD
END:VTIMEZONE
BEGIN:VEVENT
DTSTART;TZID=UTC:20180210T100000
DTEND;TZID=UTC:20180210T160000
DTSTAMP:20260423T215603
CREATED:20171024T185704Z
LAST-MODIFIED:20240626T104751Z
UID:11208-1518256800-1518278400@stmatthewshouse.org
SUMMARY:Cars on 5th
DESCRIPTION:We need your help!  Volunteer here>>>\n  \nThe Naples Chapter of the Ferrari Club of America is proud to announce the 14th annual Cars on 5th show in Naples\, set for Saturday February 10th\, 2018\, on Fifth Avenue South. \nThe Ferrari Club of America is the largest Ferrari club in the world with over 6\,500 members that benefit from its activities\, events and enthusiast camaraderie. \nThe 2016 show broke all previous attendance records\, and with over 575 private entries and dealer cars\, the displays on the street were outstanding. Rarely can such a superb collection of exotics and collector cars be found in one location\, and there were plenty of enthusiasts on hand to enjoy the show. The attendance estimates numbered over 50\,000\, and there was lots to see and enjoy in the lovely Naples weather. \n  \nCars on 5th is also about helping the community and giving to those in need. Donations from the attendees and individual contributions to our featured charities have raised over $850\,000 over the past 13 years. The 2018 14th Annual Cars on 5th will benefit St. Matthew’s House\, which for over thirty years has provided innovative solutions to fight homelessness\, hunger\, substance abuse\, and poverty in Southwest Florida. \nOur sponsors include Ferrari of Tampa Bay\, Seminole Casino\, Bank of America\, Naples Bentley-Porsche\, Naples Motorsports\, Blackhorse Motors\, Gulf Coast Motorworks and more. These dealers will once again bring a fine selection of exotic and classic cars\, adding to the hundreds of enthusiast-owned entries that will fill Fifth Avenue in February. \nAnd of course\, over 125 Ferraris will be on display with a fine mix of vintage and current V-8s and V-12s from Maranello that are guaranteed to please the crowds. We expect to have several new 488GTBs and Spiders on display. \nThe British contingent will include Jaguar\, Lotus\, Triumph and the stately Bentleys. Porsches will be plentiful including some rare race cars. American cars will not be overshadowed\, with over 60 Corvettes and other muscle cars expected. \nThe Mercato section of the show will be bigger than ever with a multitude of businesses. Artists\, jewelers\, and automotive services\, and accessory suppliers will be on hand to serve the thousands of potential clients at the show. \nTo conclude the show all car owners will start their cars at 4 PM sharp for a resounding Drive-Off by over 575 cars. It is a fitting send off for what is to be another successful Cars on 5th here in Naples. \n  \n\n\nCars on 5th Program\nWhen you join us at Cars on 5th\, don’t forget to fill out your raffle card in the Cars on 5th program. Here’s what you could win from our spectacular sponsors:\n\n\n \n\n\n– Two complimentary meals at The Seminole Casino Hotel \n\n\n– $150 gift card to Shula’s Steak House Naples \n\n\n– 10 free sessions at Orange Theory Fitness\n\n\n– Two-night stay at The Naples Beach Hotel\n\n\n– $50 gift  card to Bistro 821\n\n\n– $100 gift card to Bellini on 5th\n\n\n – Delicious by Design chef-prepared dinner party for 6 in your home. ($600 value) \n\n\n– $200 gift certificate to St. Matthew’s House Car Wash & Detail Center
URL:https://stmatthewshouse.org/event/cars-on-5th/
ATTACH;FMTTYPE=image/jpeg:https://stmatthewshouse.org/wp-content/uploads/2024/06/panarama.jpg
END:VEVENT
BEGIN:VEVENT
DTSTART;TZID=UTC:20180226T180000
DTEND;TZID=UTC:20180226T203000
DTSTAMP:20260423T215603
CREATED:20171024T190001Z
LAST-MODIFIED:20240626T104755Z
UID:11209-1519668000-1519677000@stmatthewshouse.org
SUMMARY:Justin's Place 24th Graduation Ceremony
DESCRIPTION:“He heals the brokenhearted And binds up their wounds. He counts the number of the stars; He gives names to all of them. Great is our Lord and abundant in strength; His understanding is infinite.” \nPsalm 147: 3-5 \n  \nYou are cordially invited to\nJUSTIN’S PLACE\nRECOVERY PROGRAM\n24TH GRADUATION CEREMONY\nPlease join us in our celebration of new life! \nCeremony will be held at\nMoorings Presbyterian Church\n791 Harbour Drive\nNaples\, Florida 34103\nMonday\, February 26th \nDoors Open at 5:30 PM \nCeremony Begins at 6:00 PM
URL:https://stmatthewshouse.org/event/24th-graduation/
ATTACH;FMTTYPE=image/jpeg:https://stmatthewshouse.org/wp-content/uploads/2024/06/Graduation2018.jpg
END:VEVENT
BEGIN:VEVENT
DTSTART;TZID=UTC:20180228T110000
DTEND;TZID=UTC:20180228T150000
DTSTAMP:20260423T215603
CREATED:20171024T190934Z
LAST-MODIFIED:20240626T103452Z
UID:11211-1519815600-1519830000@stmatthewshouse.org
SUMMARY:JMcLaughlin Sip & Shop
DESCRIPTION:
URL:https://stmatthewshouse.org/event/jmclaughlin-sip-shop/
END:VEVENT
END:VCALENDAR