BEGIN:VCALENDAR
VERSION:2.0
PRODID:-//St. Matthew&#039;s House - ECPv6.15.20//NONSGML v1.0//EN
CALSCALE:GREGORIAN
METHOD:PUBLISH
X-ORIGINAL-URL:https://stmatthewshouse.org
X-WR-CALDESC:Events for St. Matthew&#039;s House
REFRESH-INTERVAL;VALUE=DURATION:PT1H
X-Robots-Tag:noindex
X-PUBLISHED-TTL:PT1H
BEGIN:VTIMEZONE
TZID:UTC
BEGIN:STANDARD
TZOFFSETFROM:+0000
TZOFFSETTO:+0000
TZNAME:UTC
DTSTART:20160101T000000
END:STANDARD
END:VTIMEZONE
BEGIN:VEVENT
DTSTART;TZID=UTC:20171214T080000
DTEND;TZID=UTC:20171214T200000
DTSTAMP:20260424T005852
CREATED:20171209T022625Z
LAST-MODIFIED:20240626T104741Z
UID:11225-1513238400-1513281600@stmatthewshouse.org
SUMMARY:Holiday Open House
DESCRIPTION:Merry Christmas from the St. Matthew’s House team! \nJoin us on Thursday\, December 14\, at any of our locations for a holiday open house. Here is a summary of the day’s events: \n– Free light refreshments in-store\n– Free tall coffee at Café M25 locations\n– Double points on purchases for loyalty members\n– Give the gift of thrift! Purchase a gift card to be automatically entered to win a Café M25 gift basket. Available at each location and you do not have to be present to win. \nGiving Tree Holiday Benefit Concert\nOur Naples boutique thrift store at 2601 Airport Road South will host a Giving Tree Holiday Benefit Concert from 5:00 PM – 6:00 PM with shop night immediately to follow from 6:00 PM – 7:00 PM. \nWe will begin the evening with a 35-member instrumental band called The New Horizons\, followed by the Pennsylvania Quartet.\n 
URL:https://stmatthewshouse.org/event/holiday-open-house/
ATTACH;FMTTYPE=image/jpeg:https://stmatthewshouse.org/wp-content/uploads/2024/06/Holiday-Open-House-Web.jpg
END:VEVENT
BEGIN:VEVENT
DTSTART;TZID=UTC:20171220T080000
DTEND;TZID=UTC:20171220T170000
DTSTAMP:20260424T005852
CREATED:20171214T230328Z
LAST-MODIFIED:20240626T103516Z
UID:11228-1513756800-1513789200@stmatthewshouse.org
SUMMARY:Christmas Meal Distribution
DESCRIPTION:There will be several Christmas meal distributions by St. Matthew’s House in Southwest Florida. \nThe locations\, dates\, and times are: \nNaples\nDecember 20th from 3PM – 6PM\n2601 Airport Road South\nNaples\, FL 34112\n(in the parking lot between 2001 and 2601) \nImmokalee\nDecember 20th from 10AM – 2PM\nImmokalee Friendship House\n602 West Main Street\nImmokalee\, FL 34142 \nLaBelle\nDecember 20th from 12PM – 2PM\nFirst Baptist LaBelle\n330 North Main Street\nLaBelle\, FL 33935 \nAlva\nDecember 20th from 12PM – 2PM\nGrace Church Fort Myers Shores\n4036 Matanzas Drive\nFort Myers\, FL 33905
URL:https://stmatthewshouse.org/event/christmas-meal-distribution/
ATTACH;FMTTYPE=image/jpeg:https://stmatthewshouse.org/wp-content/uploads/2024/06/2017HopeEmail.jpg
END:VEVENT
BEGIN:VEVENT
DTSTART;TZID=UTC:20171225T120000
DTEND;TZID=UTC:20171225T160000
DTSTAMP:20260424T005852
CREATED:20170701T001154Z
LAST-MODIFIED:20240626T103436Z
UID:11198-1514203200-1514217600@stmatthewshouse.org
SUMMARY:Christmas Dinner - Naples Shelter
DESCRIPTION:
URL:https://stmatthewshouse.org/event/christmas-dinner-naples-shelter/
END:VEVENT
END:VCALENDAR