BEGIN:VCALENDAR
VERSION:2.0
PRODID:-//St. Matthew&#039;s House - ECPv6.15.20//NONSGML v1.0//EN
CALSCALE:GREGORIAN
METHOD:PUBLISH
X-ORIGINAL-URL:https://stmatthewshouse.org
X-WR-CALDESC:Events for St. Matthew&#039;s House
REFRESH-INTERVAL;VALUE=DURATION:PT1H
X-Robots-Tag:noindex
X-PUBLISHED-TTL:PT1H
BEGIN:VTIMEZONE
TZID:UTC
BEGIN:STANDARD
TZOFFSETFROM:+0000
TZOFFSETTO:+0000
TZNAME:UTC
DTSTART:20160101T000000
END:STANDARD
END:VTIMEZONE
BEGIN:VEVENT
DTSTART;TZID=UTC:20171111T110000
DTEND;TZID=UTC:20171111T180000
DTSTAMP:20260424T022506
CREATED:20170526T222351Z
LAST-MODIFIED:20240626T103413Z
UID:11177-1510398000-1510423200@stmatthewshouse.org
SUMMARY:BaconFest 2017
DESCRIPTION:If you love bacon & want to make a difference in your community\, this event is for you! BaconFest Naples is a family orientated foodie festival that celebrates “All Things Bacon” & is one of the most talked about events of the year!
URL:https://stmatthewshouse.org/event/baconfest-2017/
ATTACH;FMTTYPE=image/png:https://stmatthewshouse.org/wp-content/uploads/2024/06/BACONFEST-LOGO-400x250-1.png
END:VEVENT
BEGIN:VEVENT
DTSTART;TZID=UTC:20171116T150000
DTEND;TZID=UTC:20171116T180000
DTSTAMP:20260424T022506
CREATED:20170701T000534Z
LAST-MODIFIED:20240626T103428Z
UID:11193-1510844400-1510855200@stmatthewshouse.org
SUMMARY:Thanksgiving Holiday Meal Distribution
DESCRIPTION:Meals will be distributed in the St. Matthew’s House Naples Boutique North Parking lot.
URL:https://stmatthewshouse.org/event/thanksgiving-holiday-meal-distribution/
END:VEVENT
BEGIN:VEVENT
DTSTART;VALUE=DATE:20171117
DTEND;VALUE=DATE:20171118
DTSTAMP:20260424T022506
CREATED:20171025T180313Z
LAST-MODIFIED:20240626T103509Z
UID:11222-1510876800-1510963199@stmatthewshouse.org
SUMMARY:Immokalee Thrift Store Grand Opening
DESCRIPTION:This is a private event\, invitation only. \nFor more information please contact peggy@stmatthewshouse.org
URL:https://stmatthewshouse.org/event/immokalee-thrift-store-grand-opening/
END:VEVENT
BEGIN:VEVENT
DTSTART;TZID=UTC:20171117T090000
DTEND;TZID=UTC:20171117T110000
DTSTAMP:20260424T022506
CREATED:20170701T001642Z
LAST-MODIFIED:20240626T103438Z
UID:11199-1510909200-1510916400@stmatthewshouse.org
SUMMARY:Thanksgiving Holiday Meal Distribution
DESCRIPTION:Meals will be distributed in the St. Matthew’s House Naples Boutique North Parking lot.
URL:https://stmatthewshouse.org/event/thanksgiving-holiday-meal-distribution-2/
END:VEVENT
BEGIN:VEVENT
DTSTART;TZID=UTC:20171118T080000
DTEND;TZID=UTC:20171118T110000
DTSTAMP:20260424T022506
CREATED:20170526T230856Z
LAST-MODIFIED:20240626T104738Z
UID:11179-1510992000-1511002800@stmatthewshouse.org
SUMMARY:Heroes for Homeless 5K Run/Walk 2017
DESCRIPTION:Heroes for Homeless 5K is a fun\, family-oriented event to benefit the homeless of Southwest Florida. All proceeds go to St. Matthew’s House\, a nonprofit organization providing innovative solutions to fight homelessness\, hunger\, substance abuse\, and poverty. This is truly a community event with activities for all ages. \nThe event takes place on Saturday\, November 18th at 8:00 AM. \nWe invite the serious runner\, the weekend jogger\, and families with children to come enjoy this beautiful course around the lakes at Ave Maria. There will also be a 1 mile walking course.\nClick here to sign up now! \n  \nRegular: $27.50                                 10/1-11/17 \nDay of: $30.00                                    11/18 \nStudent (age 7-22): $15.00 \n 
URL:https://stmatthewshouse.org/event/heroes-homeless-5k-runwalk-2017/
ATTACH;FMTTYPE=image/jpeg:https://stmatthewshouse.org/wp-content/uploads/2024/06/Rotator5Kv3.jpg
END:VEVENT
BEGIN:VEVENT
DTSTART;TZID=UTC:20171123T120000
DTEND;TZID=UTC:20171123T160000
DTSTAMP:20260424T022506
CREATED:20170701T000737Z
LAST-MODIFIED:20240626T103430Z
UID:11194-1511438400-1511452800@stmatthewshouse.org
SUMMARY:Thanksgiving Meal at the Naples Shelter
DESCRIPTION:
URL:https://stmatthewshouse.org/event/thanksgiving-meal-naples-shelter/
END:VEVENT
BEGIN:VEVENT
DTSTART;TZID=UTC:20171123T120000
DTEND;TZID=UTC:20171123T160000
DTSTAMP:20260424T022506
CREATED:20170701T000938Z
LAST-MODIFIED:20240626T103432Z
UID:11195-1511438400-1511452800@stmatthewshouse.org
SUMMARY:Thanksgiving Meal at the Immokalee Shelter
DESCRIPTION:
URL:https://stmatthewshouse.org/event/thanksgiving-meal-immokalee-shelter/
END:VEVENT
END:VCALENDAR