BEGIN:VCALENDAR
VERSION:2.0
PRODID:-//St. Matthew&#039;s House - ECPv6.15.20//NONSGML v1.0//EN
CALSCALE:GREGORIAN
METHOD:PUBLISH
X-ORIGINAL-URL:https://stmatthewshouse.org
X-WR-CALDESC:Events for St. Matthew&#039;s House
REFRESH-INTERVAL;VALUE=DURATION:PT1H
X-Robots-Tag:noindex
X-PUBLISHED-TTL:PT1H
BEGIN:VTIMEZONE
TZID:UTC
BEGIN:STANDARD
TZOFFSETFROM:+0000
TZOFFSETTO:+0000
TZNAME:UTC
DTSTART:20160101T000000
END:STANDARD
END:VTIMEZONE
BEGIN:VEVENT
DTSTART;TZID=UTC:20170825T180000
DTEND;TZID=UTC:20170825T200000
DTSTAMP:20260424T064636
CREATED:20170731T212041Z
LAST-MODIFIED:20240626T104810Z
UID:11200-1503684000-1503691200@stmatthewshouse.org
SUMMARY:Night of Praise
DESCRIPTION:Event Information\nJoin us under the breezeway for a night of worship with the St. Matthew’s House band.  Praise and worship will be led by current members and graduates of Justin’s Place from 6 PM – 7 PM followed by the thrift store’s Shop Night from 7 PM – 8 PM. \nAdmission\nOne canned good donation \n 
URL:https://stmatthewshouse.org/event/night-of-praise-2/
ATTACH;FMTTYPE=image/jpeg:https://stmatthewshouse.org/wp-content/uploads/2024/06/NightofPraiseFacebook.jpg
END:VEVENT
END:VCALENDAR