BEGIN:VCALENDAR
VERSION:2.0
PRODID:-//St. Matthew&#039;s House - ECPv6.15.20//NONSGML v1.0//EN
CALSCALE:GREGORIAN
METHOD:PUBLISH
X-ORIGINAL-URL:https://stmatthewshouse.org
X-WR-CALDESC:Events for St. Matthew&#039;s House
REFRESH-INTERVAL;VALUE=DURATION:PT1H
X-Robots-Tag:noindex
X-PUBLISHED-TTL:PT1H
BEGIN:VTIMEZONE
TZID:UTC
BEGIN:STANDARD
TZOFFSETFROM:+0000
TZOFFSETTO:+0000
TZNAME:UTC
DTSTART:20150101T000000
END:STANDARD
END:VTIMEZONE
BEGIN:VEVENT
DTSTART;TZID=UTC:20160505T080000
DTEND;TZID=UTC:20160515T170000
DTSTAMP:20260425T054627
CREATED:20170228T161146Z
LAST-MODIFIED:20240626T104906Z
UID:11092-1462435200-1463331600@stmatthewshouse.org
SUMMARY:Restaurant Week Naples Summer 2016
DESCRIPTION:
URL:https://stmatthewshouse.org/event/restaurant-week-naples-summer-2016/
ATTACH;FMTTYPE=image/jpeg:https://stmatthewshouse.org/wp-content/uploads/2024/06/restaurant-week-1.jpg
END:VEVENT
END:VCALENDAR