BEGIN:VCALENDAR
VERSION:2.0
PRODID:-//St. Matthew&#039;s House - ECPv6.15.20//NONSGML v1.0//EN
CALSCALE:GREGORIAN
METHOD:PUBLISH
X-ORIGINAL-URL:https://stmatthewshouse.org
X-WR-CALDESC:Events for St. Matthew&#039;s House
REFRESH-INTERVAL;VALUE=DURATION:PT1H
X-Robots-Tag:noindex
X-PUBLISHED-TTL:PT1H
BEGIN:VTIMEZONE
TZID:UTC
BEGIN:STANDARD
TZOFFSETFROM:+0000
TZOFFSETTO:+0000
TZNAME:UTC
DTSTART:20140101T000000
END:STANDARD
END:VTIMEZONE
BEGIN:VEVENT
DTSTART;TZID=UTC:20151017T090000
DTEND;TZID=UTC:20151017T160000
DTSTAMP:20260425T161909
CREATED:20170228T162456Z
LAST-MODIFIED:20240626T104923Z
UID:11098-1445072400-1445097600@stmatthewshouse.org
SUMMARY:15th Annual Valencia Charity Golf Tournament
DESCRIPTION:
URL:https://stmatthewshouse.org/event/15th-annual-valencia-charity-golf-tournament/
CATEGORIES:Featured event
ATTACH;FMTTYPE=image/jpeg:https://stmatthewshouse.org/wp-content/uploads/2024/06/Valencia_Golf.jpg
END:VEVENT
BEGIN:VEVENT
DTSTART;TZID=UTC:20151020T173000
DTEND;TZID=UTC:20151020T190000
DTSTAMP:20260425T161909
CREATED:20170228T162807Z
LAST-MODIFIED:20240626T104923Z
UID:11100-1445362200-1445367600@stmatthewshouse.org
SUMMARY:Foodie Camp Naples
DESCRIPTION:
URL:https://stmatthewshouse.org/event/foodie-camp-naples/
CATEGORIES:Featured event
ATTACH;FMTTYPE=image/jpeg:https://stmatthewshouse.org/wp-content/uploads/2024/06/11223583_10153488254119123_8138406338359750199_n-e1441640311272.jpg
END:VEVENT
END:VCALENDAR