BEGIN:VCALENDAR
VERSION:2.0
PRODID:-//St. Matthew&#039;s House - ECPv6.15.20//NONSGML v1.0//EN
CALSCALE:GREGORIAN
METHOD:PUBLISH
X-ORIGINAL-URL:https://stmatthewshouse.org
X-WR-CALDESC:Events for St. Matthew&#039;s House
REFRESH-INTERVAL;VALUE=DURATION:PT1H
X-Robots-Tag:noindex
X-PUBLISHED-TTL:PT1H
BEGIN:VTIMEZONE
TZID:UTC
BEGIN:STANDARD
TZOFFSETFROM:+0000
TZOFFSETTO:+0000
TZNAME:UTC
DTSTART:20140101T000000
END:STANDARD
END:VTIMEZONE
BEGIN:VEVENT
DTSTART;TZID=UTC:20150724T190000
DTEND;TZID=UTC:20150724T210000
DTSTAMP:20260425T211509
CREATED:20170228T165318Z
LAST-MODIFIED:20240626T104923Z
UID:11113-1437764400-1437771600@stmatthewshouse.org
SUMMARY:Paul Todd & Paul Todd Jr. Christmas in July Concert
DESCRIPTION:  \n \nImmokalee Friendship House Need List \n\nHousehold items\, such as dishes\, utensils\, glasses\, small appliances\, pots and pans\nPaper Products (paper towels\, napkins\, toilet issue\, and paper lunch bags)\nOffice Supplies (pens\, pencils\, paper clips\, Scotch tape\, stamps\, binders)\nCanned Goods\nDisposable Razors/ Shaving Cream\nSmall Bars of Hotel-Type Soap\nSmall Bottles of Shampoo and Conditioner\nToothbrushes and Toothpaste (small tubes)\nQ-Tips\nDiapers and Baby Wipes\nSheets\, Towels\, Pillows (twin size)\, Comforters\, Blankets\, and Wash Cloths (both bath and dish)\nMen’s and Women’s Underwear and Socks (especially size 32 and 36 for men)\nChildren’s Clothing (preferably infants and toddlers)\nMen’s Jeans or Work Pants (size 32-36)\nMen’s Shoes (preferably work boots and athletic shoes)\nWomen’s and Children’s Shoes\nPricing Supplies\, such as Tickets\, Stickers\, and Pricing Guns\nBibles\, especially in Spanish\nBleach\nCleaning Supplies\, such as Lysol\, Clorox Clean-U\, and Windex\nLaundry Detergent (Liquid)\nTrash Bags (13-Gallon Size)\nMop Heads\, Brooms\, Brushes\, and Rags\nPhone Cards\,\nBaseball Caps\nWatches\nToys & Games (For Toddlers & Young Children)
URL:https://stmatthewshouse.org/event/paul-todd-paul-todd-jr-christmas-in-july-concert/
CATEGORIES:Featured event
ATTACH;FMTTYPE=image/jpeg:https://stmatthewshouse.org/wp-content/uploads/2024/06/X-Mas-Poster-8.5x11-791x1024-1.jpg
END:VEVENT
END:VCALENDAR