BEGIN:VCALENDAR
VERSION:2.0
PRODID:-//St. Matthew&#039;s House - ECPv6.15.20//NONSGML v1.0//EN
CALSCALE:GREGORIAN
METHOD:PUBLISH
X-ORIGINAL-URL:https://stmatthewshouse.org
X-WR-CALDESC:Events for St. Matthew&#039;s House
REFRESH-INTERVAL;VALUE=DURATION:PT1H
X-Robots-Tag:noindex
X-PUBLISHED-TTL:PT1H
BEGIN:VTIMEZONE
TZID:America/New_York
BEGIN:DAYLIGHT
TZOFFSETFROM:-0500
TZOFFSETTO:-0400
TZNAME:EDT
DTSTART:20240310T070000
END:DAYLIGHT
BEGIN:STANDARD
TZOFFSETFROM:-0400
TZOFFSETTO:-0500
TZNAME:EST
DTSTART:20241103T060000
END:STANDARD
BEGIN:DAYLIGHT
TZOFFSETFROM:-0500
TZOFFSETTO:-0400
TZNAME:EDT
DTSTART:20250309T070000
END:DAYLIGHT
BEGIN:STANDARD
TZOFFSETFROM:-0400
TZOFFSETTO:-0500
TZNAME:EST
DTSTART:20251102T060000
END:STANDARD
BEGIN:DAYLIGHT
TZOFFSETFROM:-0500
TZOFFSETTO:-0400
TZNAME:EDT
DTSTART:20260308T070000
END:DAYLIGHT
BEGIN:STANDARD
TZOFFSETFROM:-0400
TZOFFSETTO:-0500
TZNAME:EST
DTSTART:20261101T060000
END:STANDARD
BEGIN:DAYLIGHT
TZOFFSETFROM:-0500
TZOFFSETTO:-0400
TZNAME:EDT
DTSTART:20270314T070000
END:DAYLIGHT
BEGIN:STANDARD
TZOFFSETFROM:-0400
TZOFFSETTO:-0500
TZNAME:EST
DTSTART:20271107T060000
END:STANDARD
END:VTIMEZONE
BEGIN:VEVENT
DTSTART;TZID=America/New_York:20251110T113000
DTEND;TZID=America/New_York:20251110T200000
DTSTAMP:20260422T183317
CREATED:20250515T182523Z
LAST-MODIFIED:20251104T212111Z
UID:14790-1762774200-1762804800@stmatthewshouse.org
SUMMARY:Lee County Golf Classic
DESCRIPTION:Register to Play! \nVIEW SILENT AUCTION \nQuestions? Email events@stmatthewshouse.org.
URL:https://stmatthewshouse.org/event/lee-county-golf-classic/
LOCATION:The Club at Renaissance\, 12801 Renaissance Way\, Fort Myers\, FL\, 33912\, United States
ATTACH;FMTTYPE=image/jpeg:https://stmatthewshouse.org/wp-content/uploads/2025/05/1920x1080-LCGC-slide.jpg
ORGANIZER;CN="St. Matthew%E2%80%99s House":MAILTO:events@stmatthewshouse.org
END:VEVENT
BEGIN:VEVENT
DTSTART;TZID=America/New_York:20251221T180000
DTEND;TZID=America/New_York:20251221T190000
DTSTAMP:20260422T183317
CREATED:20251125T142324Z
LAST-MODIFIED:20251125T142805Z
UID:17239-1766340000-1766343600@stmatthewshouse.org
SUMMARY:2025 Annual Candlelight Vigil
DESCRIPTION:On the longest night of the year\, St. Matthew’s House hosts a candlelight vigil to remember those we’ve lost and find comfort in one another’s presence. \nHeld annually on National Homeless Persons’ Memorial Day\, we also honor those who are without a home and pray for their safety. \nRegister Now!
URL:https://stmatthewshouse.org/event/2025-annual-candlelight-vigil/
LOCATION:Campbell Lodge\, 2001 Airport Road South\, Naples\, FL\, 34112\, United States
CATEGORIES:Featured event
ATTACH;FMTTYPE=image/png:https://stmatthewshouse.org/wp-content/uploads/2025/11/Candlelight-Vigil-Web-Image.png
ORGANIZER;CN="St. Matthew%E2%80%99s House":MAILTO:events@stmatthewshouse.org
END:VEVENT
BEGIN:VEVENT
DTSTART;TZID=America/New_York:20260221T170000
DTEND;TZID=America/New_York:20260221T210000
DTSTAMP:20260422T183317
CREATED:20260209T175151Z
LAST-MODIFIED:20260209T175401Z
UID:18325-1771693200-1771707600@stmatthewshouse.org
SUMMARY:Hearts & Hands
DESCRIPTION:Hearts & Hands is a community event with a shared mission of compassion and impact. \nJoin us for an intimate dinner and a special Motown concert featuring Chicago-based band Soulfully Spoken. \nAll proceeds benefit St. Matthew’s House\, a local non-profit dedicated to supporting individuals in the crisis of hunger\, homelessness\, and addiction\, and guiding them toward hope\, stability\, empowerment\, contribution to the community. \n\n\n\nPurchase Tickets! \n\nSPONSORSHIPS AVAILABLE!
URL:https://stmatthewshouse.org/event/hearts-hands/
LOCATION:The Quarry Golf Club\, 8950 Weathered Stone Drive\, Naples\, FL\, 34120\, United States
ATTACH;FMTTYPE=image/png:https://stmatthewshouse.org/wp-content/uploads/2026/02/HH-Website-Graphic.png
ORGANIZER;CN="St. Matthew%E2%80%99s House":MAILTO:events@stmatthewshouse.org
END:VEVENT
BEGIN:VEVENT
DTSTART;TZID=America/New_York:20260227T173000
DTEND;TZID=America/New_York:20260227T200000
DTSTAMP:20260422T183317
CREATED:20260105T191958Z
LAST-MODIFIED:20260105T192051Z
UID:17979-1772213400-1772222400@stmatthewshouse.org
SUMMARY:An Inspirational Evening with André Knevel: A Benefit Concert and Reception
DESCRIPTION:Join us for an unforgettable evening of music and compassion featuring world-renowned organist André Knevel. \nThis special event benefits St. Matthew’s House providing food\, shelter and hope to those in need. \nReserve your tickets today and make a difference! \n\nBuy Tickets!
URL:https://stmatthewshouse.org/event/an-inspirational-evening-with-andre-knevel-a-benefit-concert-and-reception/
LOCATION:Naples United Church of Christ\, 5200 Crayton Rd\, Naples\, FL\, 34103\, United States
CATEGORIES:Featured event
ATTACH;FMTTYPE=image/png:https://stmatthewshouse.org/wp-content/uploads/2026/01/Webpage-Andre.png
ORGANIZER;CN="St. Matthew%E2%80%99s House":MAILTO:events@stmatthewshouse.org
END:VEVENT
BEGIN:VEVENT
DTSTART;TZID=America/New_York:20260319T173000
DTEND;TZID=America/New_York:20260319T193000
DTSTAMP:20260422T183317
CREATED:20260127T154358Z
LAST-MODIFIED:20260127T154358Z
UID:18027-1773941400-1773948600@stmatthewshouse.org
SUMMARY:Justin's Place Recovery Program Graduation Ceremony
DESCRIPTION:Join us for our triannual Justin’s Place Recovery Program Graduation. Doors open at 5:30 p.m. Ceremony begins promptly at 6:00 p.m.  \nThis event will also be live-streamed on our YouTube channel for those who cannot join us in person. \nWe look forward to celebrating with you as another class of graduates commences their transformed lives! \nClick here to RSVP Today!\n 
URL:https://stmatthewshouse.org/event/justins-place-recovery-program-graduation-ceremony-2/
LOCATION:Covenant Church of Naples\, 6926 Trail Blvd\, Naples\, FL\, 34108\, United States
CATEGORIES:Graduation
ATTACH;FMTTYPE=image/jpeg:https://stmatthewshouse.org/wp-content/uploads/2025/04/JP-Grad-Website-Event-Image.jpg
ORGANIZER;CN="St. Matthew%E2%80%99s House":MAILTO:events@stmatthewshouse.org
END:VEVENT
BEGIN:VEVENT
DTSTART;TZID=America/New_York:20260502T100000
DTEND;TZID=America/New_York:20260502T170000
DTSTAMP:20260422T183317
CREATED:20260422T201229Z
LAST-MODIFIED:20260422T201229Z
UID:20628-1777716000-1777741200@stmatthewshouse.org
SUMMARY:2026 Hot Dog Safari
DESCRIPTION:Naples Hotdog Safari kicks off May 2nd with six delicious stops spread across Naples. And Lulu’s Kitchen is participating! \nHow it works:• Pick up your scorecard starting at 10 AM at St. Matthew’s House Thrift Store (2601 Airport-Pulling Rd\, Naples\, FL 34112)• Visit participating restaurants at your own pace• Try each featured hot dog and score them• Turn in your scorecard by the end of the day\n\n Want to skip the line? Pre-purchase your scorecard here:https://naples-dog-crawl.lovable.app/\n\nAll proceeds support St. Matthew’s House\, helping those in need right here in our community.\nBring your friends\, your appetite\, and your sense of adventure — we can’t wait to see you!\nFor a sneak peek at our limited time signature safari dog\, follow our very own Indiana Joe as he treks deep into the jungle to retrieve it just for you! https://youtube.com/shorts/XaaKS7EdQCY?feature=share \nAll scorecard revenue goes to St. Matthews House as the beneficiary.
URL:https://stmatthewshouse.org/event/2026-hot-dog-safari/
END:VEVENT
END:VCALENDAR