BEGIN:VCALENDAR
VERSION:2.0
PRODID:-//St. Matthew&#039;s House - ECPv6.15.20//NONSGML v1.0//EN
CALSCALE:GREGORIAN
METHOD:PUBLISH
X-WR-CALNAME:St. Matthew&#039;s House
X-ORIGINAL-URL:https://stmatthewshouse.org
X-WR-CALDESC:Events for St. Matthew&#039;s House
REFRESH-INTERVAL;VALUE=DURATION:PT1H
X-Robots-Tag:noindex
X-PUBLISHED-TTL:PT1H
BEGIN:VTIMEZONE
TZID:UTC
BEGIN:STANDARD
TZOFFSETFROM:+0000
TZOFFSETTO:+0000
TZNAME:UTC
DTSTART:20140101T000000
END:STANDARD
END:VTIMEZONE
BEGIN:VEVENT
DTSTART;TZID=UTC:20150212T181500
DTEND;TZID=UTC:20150212T210000
DTSTAMP:20260424T130525
CREATED:20170228T174522Z
LAST-MODIFIED:20240626T103351Z
UID:11142-1423764900-1423774800@stmatthewshouse.org
SUMMARY:Barbary Coast Dixieland Show Band Concert at Emmanuel Lutheran Church
DESCRIPTION:Come on out to see The Barbary Coast Dixieland Show Band\, a group that has been elected into the Minnesota Music Hall of Fame. The group will be performing at Emmanuel Lutheran Church on February 12\, 2015 benefiting St. Matthew’s House. Doors open at 6:15; concert starts at 7:00! \nFor tickets and more info call 239-261-0894 or email elcanaples@embarqmail.com
URL:https://stmatthewshouse.org/event/barbary-coast-dixieland-show-band-concert-at-emmanuel-lutheran-church/
CATEGORIES:Featured event
ATTACH;FMTTYPE=image/jpeg:https://stmatthewshouse.org/wp-content/uploads/2024/06/barbary-300x200-1.jpg
END:VEVENT
BEGIN:VEVENT
DTSTART;TZID=UTC:20150211T010000
DTEND;TZID=UTC:20150211T180000
DTSTAMP:20260424T130525
CREATED:20170228T174249Z
LAST-MODIFIED:20240626T103349Z
UID:11140-1423616400-1423677600@stmatthewshouse.org
SUMMARY:J McLaughlin Dress Shop Charity Day
DESCRIPTION:15% of gross sales to benefit St. Matthew’s House.\nEvent from 1-6 p.m. J. McLaughlin is a true American sportswear company whose store on Third Street South offers beautifully cut and designed classic\, but contemporary clothing in rich colors and fabrics for men and women.
URL:https://stmatthewshouse.org/event/j-mclaughlin-dress-shop-charity-day/
CATEGORIES:Featured event
ATTACH;FMTTYPE=image/png:https://stmatthewshouse.org/wp-content/uploads/2024/06/b-a-l-l-o-o-n-6.png
END:VEVENT
BEGIN:VEVENT
DTSTART;TZID=UTC:20150117T080000
DTEND;TZID=UTC:20150117T120000
DTSTAMP:20260424T130525
CREATED:20170228T173721Z
LAST-MODIFIED:20240626T103343Z
UID:11137-1421481600-1421496000@stmatthewshouse.org
SUMMARY:Annual Garage Sale
DESCRIPTION:
URL:https://stmatthewshouse.org/event/annual-garage-sale/
LOCATION:st matthews logo
CATEGORIES:Featured event
END:VEVENT
BEGIN:VEVENT
DTSTART;TZID=UTC:20150110T090000
DTEND;TZID=UTC:20150110T170000
DTSTAMP:20260424T130525
CREATED:20170228T173512Z
LAST-MODIFIED:20240626T103342Z
UID:11136-1420880400-1420909200@stmatthewshouse.org
SUMMARY:True Fashionistas Charity Day
DESCRIPTION:Shop at the True Fashionistas Naples location and 10% of all sales will be donated to support St. Matthew’s House.
URL:https://stmatthewshouse.org/event/true-fashionistas-charity-day/
END:VEVENT
END:VCALENDAR