BEGIN:VCALENDAR
VERSION:2.0
PRODID:-//St. Matthew&#039;s House - ECPv6.15.20//NONSGML v1.0//EN
CALSCALE:GREGORIAN
METHOD:PUBLISH
X-WR-CALNAME:St. Matthew&#039;s House
X-ORIGINAL-URL:https://stmatthewshouse.org
X-WR-CALDESC:Events for St. Matthew&#039;s House
REFRESH-INTERVAL;VALUE=DURATION:PT1H
X-Robots-Tag:noindex
X-PUBLISHED-TTL:PT1H
BEGIN:VTIMEZONE
TZID:UTC
BEGIN:STANDARD
TZOFFSETFROM:+0000
TZOFFSETTO:+0000
TZNAME:UTC
DTSTART:20140101T000000
END:STANDARD
END:VTIMEZONE
BEGIN:VEVENT
DTSTART;TZID=UTC:20150620T080000
DTEND;TZID=UTC:20150620T170000
DTSTAMP:20260420T061849
CREATED:20170228T163937Z
LAST-MODIFIED:20240626T104924Z
UID:11106-1434787200-1434819600@stmatthewshouse.org
SUMMARY:9th Annual Lee Redmond Classic
DESCRIPTION:
URL:https://stmatthewshouse.org/event/9th-annual-lee-redmond-classic/
LOCATION:addiction
CATEGORIES:Featured event
ATTACH;FMTTYPE=image/jpeg:https://stmatthewshouse.org/wp-content/uploads/2024/06/9th-Annual-.jpg
END:VEVENT
BEGIN:VEVENT
DTSTART;TZID=UTC:20150619T120000
DTEND;TZID=UTC:20150619T190000
DTSTAMP:20260420T061849
CREATED:20170228T171315Z
LAST-MODIFIED:20240626T104924Z
UID:11123-1434715200-1434740400@stmatthewshouse.org
SUMMARY:Annie Sloan Late Event hosted by Dovetails LLC
DESCRIPTION:Register online at: http://bit.ly/1dPL435 \n \nDovetails LLC\, the Annie Sloan stockist for Collier County\, has chosen St. Matthew’s House for the second annual “Annie Sloan Late\,” a special event being held on Friday\, June 19th. Hundreds of Annie Sloan stockists worldwide participated in the first “Annie Sloan Late” last year\, raising tens of thousands of dollars for charity. \nDovetails LLC is inviting shoppers to join them at the St. Matthew’s House Boutique Thrift Store showroom (2601 Airport Road S.) from 12-7 p.m. on June 19th to experience wonderfully creative painters giving demonstrations\, lessons\, hints and tips on how to dramatically transform thrift store finds using Annie Sloan’s decorative paint\, Chalk Paint®. With advice on color selection and techniques\, the event will give homeowners and budding interior designers the confidence to use Annie Sloan’s paint and waxes for their projects. \nThis event is FREE to the public and St. Matthew’s House and Dovetails will be offering raffles throughout the day. \nAbout Dovetails LLC:  \nDovetails LLC is a locally owned estate liquidation and home décor center located in the Design District of downtown Naples. They have been assisting Collier County homeowners sell everything but the house for almost 20 years. \nThe auction division\, known as Auctions Neapolitan\, features Live Internet broadcast auctions as well as Timed Internet auctions onsite or at their location. Dovetail’s flagship retail location\, Dovetails llc ~ Estate and Décor\, located at the corner of Central Ave. and 10th Street\, is a boutique home furnishings store featuring Annie Sloan and other finishing products as well as fine gifts\, accessories\, and furniture. Additionally\, Dovetails offers custom cabinet and furniture restyling\, and for the DYI minded\, decorative paint lessons are held throughout the year. \nAbout Annie Sloan and the Annie Sloan stockist network: \nAs one of the world’s most respected experts in the field of decorative painting\, Annie Sloan is often deservedly given the title of “a paint legend”. She has written over 20 books on paints\, colours and techniques\, which have led to total sales of well over 2 million books worldwide\, printed in eleven languages. \nThis year\, Annie is celebrating 25 years since she first invented her own unique decorative paint\, called Chalk Paint®. This paint and the painting techniques Annie has developed around them have played an instrumental pioneering role in the furniture painting revolution. \nThe Annie Sloan stockist network is comprised of over 1400 unique\, independent shops throughout the Europe\, North America\, Southern Africa\, Australasia and now Japan and the Middle East. In the UK\, there are around 300 shops in the network and the list throughout the world grows daily. \nEach stockist is handpicked by Annie for their individual style and approach. Annie is a strong supporter of independent businesses and has refused all approaches from high street chains to stock her products. Chalk Paint® and her other products are only available from the stockists’ shops and websites. \nFor more information on Annie Sloan\, her products and stockists\, visit www.anniesloan.com. \nAbout St. Matthew’s House \nThe mission of St. Matthew’s House is to change lives in a spiritual environment that is both compassionate and disciplined\, as well as provide housing for the homeless and food for the needy. St. Matthew’s House is the only emergency housing and recovery program in Collier County. \n\n\nShare this:
URL:https://stmatthewshouse.org/event/annie-sloan-late-event-hosted-by-dovetails-llc/
CATEGORIES:Featured event
ATTACH;FMTTYPE=image/png:https://stmatthewshouse.org/wp-content/uploads/2024/06/dovetails-logo-web-325-300x85-1.png
END:VEVENT
BEGIN:VEVENT
DTSTART;TZID=UTC:20150616T190000
DTEND;TZID=UTC:20150616T210000
DTSTAMP:20260420T061849
CREATED:20170228T170821Z
LAST-MODIFIED:20240626T104924Z
UID:11121-1434481200-1434488400@stmatthewshouse.org
SUMMARY:Matt Redman Live Concert
DESCRIPTION:Matt Redman\, along with Christy Knockles\, is coming to First Assembly of Fort Myers on Tuesday\, June 16th! This is the perfect FREE concert for your family to start off the summer! This concert will have sing and worshiping at the top of your lungs to songs like “10\,000 Reasons\,” “Your Grace Finds Me\,” and “Never Once!” We will be collecting non-perishable food items at the WAY-FM tent and they will be going to St. Matthew’s House. \n\nDate: June 16th\nTime: 7:00\nLocation: First Assembly of God of Fort Myers – – 4701 Summerlin Road Fort Myers\, Florida 33919\, US\n\nSeats are general admission only so make sure to get there early to get the best seats! \n \nThanks to our sponsors for making this FREE event possible: \nDr. Melanie Pugh Gentle Family Dentistry\, Culbertson Agency\, and Naples Floral Design.
URL:https://stmatthewshouse.org/event/matt-redman-live-concert/
CATEGORIES:Featured event
ATTACH;FMTTYPE=image/png:https://stmatthewshouse.org/wp-content/uploads/2024/06/11391254_10153285612072521_3544701551887734963_n.png
END:VEVENT
BEGIN:VEVENT
DTSTART;TZID=UTC:20150426T110000
DTEND;TZID=UTC:20150426T160000
DTSTAMP:20260420T061849
CREATED:20170228T170359Z
LAST-MODIFIED:20240626T104924Z
UID:11119-1430046000-1430064000@stmatthewshouse.org
SUMMARY:33rd Annual Taste Of Collier
DESCRIPTION:Taste Of Collier\, a long-standing Naples tradition\, is an afternoon of family fun featuring live performances by area musicians\, crowd-pleasing ice-carving demonstrations\, cooking competitions with local top chefs\, and of course\, savory samples from over 40 of the best local restaurants in Collier County! \nTaste Of Collier is a way for area restaurants to say “Thank You” to the year-round residents for their patronage\, while also raising monies for local charitable organizations. \n*Pending City Council Approval
URL:https://stmatthewshouse.org/event/33rd-annual-taste-of-collier/
CATEGORIES:Featured event
ATTACH;FMTTYPE=image/jpeg:https://stmatthewshouse.org/wp-content/uploads/2024/06/LOGO-Taste-Of-Collier-300x186-1.jpg
END:VEVENT
BEGIN:VEVENT
DTSTART;TZID=UTC:20150410T180000
DTEND;TZID=UTC:20150410T200000
DTSTAMP:20260420T061849
CREATED:20170228T170138Z
LAST-MODIFIED:20240626T104924Z
UID:11117-1428688800-1428696000@stmatthewshouse.org
SUMMARY:St. Matthew’s House Painting with a Purpose
DESCRIPTION:  \nPainting with a Twist\, an art and social studio in Naples will host a Painting with a Purpose charity event 4/10/15 to benefit St. Matthew’s House. \nThe studio will offer a 2 hour guided painting class at $35 a person. An instructor and assistant will walk the class through the entire painting. Beer and Wine will be available for purchase. It will be a fun afternoon for a great cause. \nArrive 15-20 minutes early to get uncorked\, smocked & in your seat! If you desire more time to unwind\, visit with friends & breathe before we get twisted\, we invite you to arrive up to 30 minutes prior to start time; it’s your Happy Half Hour! \nIf you’re coming with others\, but making reservations separately\, give your group’s name in the Special Request box and they’ll seat you together!
URL:https://stmatthewshouse.org/event/st-matthews-house-painting-with-a-purpose/
CATEGORIES:Featured event
ATTACH;FMTTYPE=image/jpeg:https://stmatthewshouse.org/wp-content/uploads/2024/06/LOGO-Painting-With-a-Twist-vertical-300x158-1.jpg
END:VEVENT
BEGIN:VEVENT
DTSTART;TZID=UTC:20150321T110000
DTEND;TZID=UTC:20150321T150000
DTSTAMP:20260420T061849
CREATED:20170228T165700Z
LAST-MODIFIED:20240626T104924Z
UID:11115-1426935600-1426950000@stmatthewshouse.org
SUMMARY:Guardian Angels Medical Service Dogs Bark-A-Que
DESCRIPTION:(February 15\, 2015 – Immokalee\, Florida) \nALTAIR Training Solutions will be hosting the 2015 Annual Bark-A-Que\, benefitting Guardian Angels Medical Service Dogs\, Inc. on March 21\, 2015 from 11-3pm. This fun-filled event will be held at the brand new\, 1\,150 acre\, ALTAIR Regional Training Facility (the old Hendry County Correctional Facility)\, located at 12551 Wainwright Drive\, Immokalee\, Florida. A rare chance to see this amazing facility\, not generally open to the public. \nThe fundraiser will feature live music by country music rising star\, Joe Bachman\, as well as performances by local talent Jon Bowlin\, and the Lehigh Children’s Choir. Along with shooting demonstrations\, an amazing silent auction\, plenty of barbeque\, a kids play land\, raffles\, vendor booths\, and much more! \nGuardian Angels Medical Service Dogs is a 501(C)3 Based in Florida that rescues\, raises\, trains and then donates individually trained medical service dogs to Veterans and others who suffer from disabilities. There is no federal funding available for this critical life-saving program\, so we need your help. \nEvent attendees are encouraged to RSVP before March 12th.  Tickets are $35 per person prior to March 12\, and $50 per person after March 12\, or at the gate. Kids under 12 are free. Pets are not permitted. Please go online to: http://www.altairgunclub.com/bark-a-que/ for more information and to purchase your tickets.
URL:https://stmatthewshouse.org/event/guardian-angels-medical-service-dogs-bark-a-que/
CATEGORIES:Featured event
ATTACH;FMTTYPE=image/jpeg:https://stmatthewshouse.org/wp-content/uploads/2024/06/save-the-date-2015v5.jpg
END:VEVENT
BEGIN:VEVENT
DTSTART;TZID=UTC:20150311T080000
DTEND;TZID=UTC:20150311T173000
DTSTAMP:20260420T061849
CREATED:20170228T173230Z
LAST-MODIFIED:20240626T104924Z
UID:11134-1426060800-1426095000@stmatthewshouse.org
SUMMARY:Celebration of Hope Benefit Dinner
DESCRIPTION:The Celebration of Hope Benefit Dinner is an annual fundraising dinner to benefit and support the many services that St. Matthew’s House provides to the homeless\, hungry and addicted of our community. \n \nThe format of the dinner gives us the opportunity to share St. Matthew’s House with new people\, that by our own efforts\, would not have that opportunity. \nThe dinner is free for all of the guests and the way to get invited is by a Table Captain.  A Table Captain is someone who has a passion for St. Matthew’s House and wants to share that passion with their friends\, neighbors\, co-workers\, or those whom they attend church with by inviting them to join them at their table at the dinner. \nNearly 400 of the most philanthropically-minded and affluent people from the Naples area attend this business casual informative dinner \nIf you’re interested in being a table captain or event sponsor email us or call (239) 298-5026.
URL:https://stmatthewshouse.org/event/celebration-of-hope-benefit-dinner/
CATEGORIES:Featured event
ATTACH;FMTTYPE=image/png:https://stmatthewshouse.org/wp-content/uploads/2024/06/b-a-l-l-o-o-n-9.png
END:VEVENT
BEGIN:VEVENT
DTSTART;TZID=UTC:20150301T180000
DTEND;TZID=UTC:20150301T213000
DTSTAMP:20260420T061849
CREATED:20170228T172912Z
LAST-MODIFIED:20240626T104924Z
UID:11132-1425232800-1425245400@stmatthewshouse.org
SUMMARY:The Hunger Ball
DESCRIPTION:On Sunday\, March 1st from 6:00 p.m. – 9:30 p.m.\, St. Matthew’s House and Johnny and Lisa PerMar (of JohnnyandLisaDance.com) will host the 2nd annual ‘HUNGER BALL’ to support the mission and programs of St. Matthew’s House. \nThe event will take place at St. John the Evangelist Catholic Church (625 111th Ave N.\, Naples) and will culminate a weekend of non-stop fundraising. Ballroom dance instructors Johnny and Lisa PerMar will be giving away FREE private dance lessons during their ‘WILL DANCE FOR FOOD’ campaign. \nAs part of the ‘WILL DANCE FOR FOOD’ campaign\, donors will receive a private dance lesson in exchange for two (2) full event bags donated with non-perishable food items. The couple and their team of instructors will teach the lessons for 48 hours straight from February 27-28 at the Naples Performing Arts Center. \nTheir goal is to raise more than a metric ton of donated food during the campaign. Official complimentary ‘WILL DANCE FOR FOOD’ event bags can be picked up by contacting Johnny and Lisa at (239) 919-0201 or (239) 919-0205. \nThe weekend will then be capped off with the Havana nights themed ‘HUNGER BALL’ that will feature dance performances\, food by SMH Catering\, live music by Manhattan Connection\, a fashion show and more. The MC for the event will be NBC-2 anchor Chad Oliver. \nTickets can be purchased on Eventbrite. \nProceeds to benefit St. Matthew’s House.
URL:https://stmatthewshouse.org/event/the-hunger-ball/
LOCATION:hero
CATEGORIES:Featured event
ATTACH;FMTTYPE=image/jpeg:https://stmatthewshouse.org/wp-content/uploads/2024/06/64e9d1854727779feb79746f05670a81.jpg
END:VEVENT
BEGIN:VEVENT
DTSTART;TZID=UTC:20150228T180000
DTEND;TZID=UTC:20150228T213000
DTSTAMP:20260420T061849
CREATED:20170228T172559Z
LAST-MODIFIED:20240626T104924Z
UID:11130-1425146400-1425159000@stmatthewshouse.org
SUMMARY:St. Matthew’s House of Style
DESCRIPTION:An evening of fun\, fashion and fabulous entertainment that will showcase Southwest Florida’s vibrant fashion and beauty industry. \nThis year’s event spotlights the Justin’s Place Recovery Program for Women and its clients. \nIt’s the FEEL GOOD shopping experience of the season! \nPROCEEDS WILL BE USED TO SUPPORT THE MISSION OF ST. MATTHEW’S HOUSE \n​General Admission tickets are $40 \nPurchase tickets on Eventbrite \nVIP Tickets are $100 \nExperience includes: \n\nPriority reserved seating around runway\nOne-hour early shopping access to the event – ARRIVE AT 5 p.m.!\nVIP lounge area with special hors d’oeuvres and gifts\nVIP dressing rooms and merchandise hold area\nConcierge checkout service\n10% discount on any purchase made before March 14th
URL:https://stmatthewshouse.org/event/st-matthews-house-of-style/
CATEGORIES:Featured event
ATTACH;FMTTYPE=image/jpeg:https://stmatthewshouse.org/wp-content/uploads/2024/06/63ef385d1dad4ced2c42e45b7b7437bf-1.jpg
END:VEVENT
BEGIN:VEVENT
DTSTART;TZID=UTC:20150216T170000
DTEND;TZID=UTC:20150216T203000
DTSTAMP:20260420T061849
CREATED:20170228T172313Z
LAST-MODIFIED:20240626T104925Z
UID:11128-1424106000-1424118600@stmatthewshouse.org
SUMMARY:Celebration of Hope – San Marco
DESCRIPTION:St. Matthew’s House\, in conjunction with Bill and Doris Roche\, will host its annual Marco Island ‘Celebration of Hope’ benefit dinner. In 2014\, this event contributed to the more than $1.3 million raised toward funding the organization’s Justin’s Place Recovery Program. The event will feature live and recorded testimonies from clients of the Justin’s Place Recovery Program whom have seen their lives transformed. Dinner will be provided by SMH Catering\, a social enterprise of St. Matthew’s House. \nTo date\, the Justin’s Place Recovery Program has graduated 186 individuals.
URL:https://stmatthewshouse.org/event/celebration-of-hope-san-marco/
CATEGORIES:Featured event
ATTACH;FMTTYPE=image/jpeg:https://stmatthewshouse.org/wp-content/uploads/2024/06/36626_566475210037265_1245272251_n.jpg
END:VEVENT
BEGIN:VEVENT
DTSTART;TZID=UTC:20150214T100000
DTEND;TZID=UTC:20150214T150000
DTSTAMP:20260420T061849
CREATED:20170228T172010Z
LAST-MODIFIED:20240626T104925Z
UID:11126-1423908000-1423926000@stmatthewshouse.org
SUMMARY:Cars on Fifth
DESCRIPTION:The Naples Chapter of the Ferrari Club of America is proud to announce the 11th Annual ‘Cars on 5th’ show in Naples. Set for Saturday February 14th\, 2015\, on Fifth Avenue South\, the eleventh annual show will be better than ever. \nThe ‘Cars on 5th’ show is also about helping the community and giving to those in need. Donations from the attendees and individual contributions to our featured charities have risen over $350\,000 over the past ten years. The 2015 11th Annual Cars on 5th will benefit our featured Naples charity\, St. Matthew’s House\, which has been giving back to Southwest Florida for more than a quarter century. St. Matthew’s House works to offer hope to the hopeless through its emergency shelters and transitional housing facilities\, food pantries\, daily feeding ministry\, and its innovative ‘Justin’s Place’ drug/alcohol recovery programs. \nThe Ferrari Club of America is the largest Ferrari club in the world with over 5\,000 members that benefit from its activities\, events and enthusiast camaraderie. \nThe 2014 show broke all previous attendance records\, and with over 500 private entries and dealer cars\, the displays on the street were outstanding. Rarely can such a superb collection of exotics and collector cars be found in one location\, and there were plenty of enthusiasts on hand to enjoy the show. The attendance estimates numbered nearly 40\,000\, and there was lots to see and enjoy in the lovely Naples weather. \nTo conclude the show all car owners will start their cars at 3 PM sharp for a resounding Drive-Off by over 400 cars. It is a fitting send off for what is to be another successful ‘Cars on 5th’ here in Naples Florida.
URL:https://stmatthewshouse.org/event/cars-on-fifth/
CATEGORIES:Featured event
ATTACH;FMTTYPE=image/jpeg:https://stmatthewshouse.org/wp-content/uploads/2024/06/CoF.jpg
END:VEVENT
BEGIN:VEVENT
DTSTART;TZID=UTC:20150212T181500
DTEND;TZID=UTC:20150212T210000
DTSTAMP:20260420T061849
CREATED:20170228T174522Z
LAST-MODIFIED:20240626T103351Z
UID:11142-1423764900-1423774800@stmatthewshouse.org
SUMMARY:Barbary Coast Dixieland Show Band Concert at Emmanuel Lutheran Church
DESCRIPTION:Come on out to see The Barbary Coast Dixieland Show Band\, a group that has been elected into the Minnesota Music Hall of Fame. The group will be performing at Emmanuel Lutheran Church on February 12\, 2015 benefiting St. Matthew’s House. Doors open at 6:15; concert starts at 7:00! \nFor tickets and more info call 239-261-0894 or email elcanaples@embarqmail.com
URL:https://stmatthewshouse.org/event/barbary-coast-dixieland-show-band-concert-at-emmanuel-lutheran-church/
CATEGORIES:Featured event
ATTACH;FMTTYPE=image/jpeg:https://stmatthewshouse.org/wp-content/uploads/2024/06/barbary-300x200-1.jpg
END:VEVENT
BEGIN:VEVENT
DTSTART;TZID=UTC:20150211T010000
DTEND;TZID=UTC:20150211T180000
DTSTAMP:20260420T061849
CREATED:20170228T174249Z
LAST-MODIFIED:20240626T103349Z
UID:11140-1423616400-1423677600@stmatthewshouse.org
SUMMARY:J McLaughlin Dress Shop Charity Day
DESCRIPTION:15% of gross sales to benefit St. Matthew’s House.\nEvent from 1-6 p.m. J. McLaughlin is a true American sportswear company whose store on Third Street South offers beautifully cut and designed classic\, but contemporary clothing in rich colors and fabrics for men and women.
URL:https://stmatthewshouse.org/event/j-mclaughlin-dress-shop-charity-day/
CATEGORIES:Featured event
ATTACH;FMTTYPE=image/png:https://stmatthewshouse.org/wp-content/uploads/2024/06/b-a-l-l-o-o-n-6.png
END:VEVENT
BEGIN:VEVENT
DTSTART;TZID=UTC:20150117T080000
DTEND;TZID=UTC:20150117T120000
DTSTAMP:20260420T061849
CREATED:20170228T173721Z
LAST-MODIFIED:20240626T103343Z
UID:11137-1421481600-1421496000@stmatthewshouse.org
SUMMARY:Annual Garage Sale
DESCRIPTION:
URL:https://stmatthewshouse.org/event/annual-garage-sale/
LOCATION:st matthews logo
CATEGORIES:Featured event
END:VEVENT
BEGIN:VEVENT
DTSTART;TZID=UTC:20150110T090000
DTEND;TZID=UTC:20150110T170000
DTSTAMP:20260420T061849
CREATED:20170228T173512Z
LAST-MODIFIED:20240626T103342Z
UID:11136-1420880400-1420909200@stmatthewshouse.org
SUMMARY:True Fashionistas Charity Day
DESCRIPTION:Shop at the True Fashionistas Naples location and 10% of all sales will be donated to support St. Matthew’s House.
URL:https://stmatthewshouse.org/event/true-fashionistas-charity-day/
END:VEVENT
END:VCALENDAR