BEGIN:VCALENDAR
VERSION:2.0
PRODID:-//St. Matthew&#039;s House - ECPv6.15.20//NONSGML v1.0//EN
CALSCALE:GREGORIAN
METHOD:PUBLISH
X-ORIGINAL-URL:https://stmatthewshouse.org
X-WR-CALDESC:Events for St. Matthew&#039;s House
REFRESH-INTERVAL;VALUE=DURATION:PT1H
X-Robots-Tag:noindex
X-PUBLISHED-TTL:PT1H
BEGIN:VTIMEZONE
TZID:America/New_York
BEGIN:DAYLIGHT
TZOFFSETFROM:-0500
TZOFFSETTO:-0400
TZNAME:EDT
DTSTART:20220313T070000
END:DAYLIGHT
BEGIN:STANDARD
TZOFFSETFROM:-0400
TZOFFSETTO:-0500
TZNAME:EST
DTSTART:20221106T060000
END:STANDARD
BEGIN:DAYLIGHT
TZOFFSETFROM:-0500
TZOFFSETTO:-0400
TZNAME:EDT
DTSTART:20230312T070000
END:DAYLIGHT
BEGIN:STANDARD
TZOFFSETFROM:-0400
TZOFFSETTO:-0500
TZNAME:EST
DTSTART:20231105T060000
END:STANDARD
BEGIN:DAYLIGHT
TZOFFSETFROM:-0500
TZOFFSETTO:-0400
TZNAME:EDT
DTSTART:20240310T070000
END:DAYLIGHT
BEGIN:STANDARD
TZOFFSETFROM:-0400
TZOFFSETTO:-0500
TZNAME:EST
DTSTART:20241103T060000
END:STANDARD
END:VTIMEZONE
BEGIN:VEVENT
DTSTART;TZID=America/New_York:20231012T180000
DTEND;TZID=America/New_York:20231012T200000
DTSTAMP:20260419T224050
CREATED:20230525T210524Z
LAST-MODIFIED:20240626T104001Z
UID:11513-1697133600-1697140800@stmatthewshouse.org
SUMMARY:Justin’s Place 41st Graduation Ceremony
DESCRIPTION:Join us for the 41st Justin’s Place Recovery Program Graduation Ceremony on October 12\, 2023. The doors will open at 5:30 p.m. Ceremony begins promptly at 6 p.m.\n[maxbutton id=”14″ url=”https://support.stmatthewshouse.org/event/justins-place-recovery-program-graduation-ceremony-october-2023/e491762″ ] \nThis event will also be livestreamed on our YouTube channel for those who cannot join us in person. \nWe look forward to celebrating with you as another class of graduates commences their transformed lives. \nFor more information about this event\, contact Nick Porter at (239) 774-0500\, ext. 161 or events@stmatthewshouse.org. \nCovenant Church of Naples\n6926 Trail Blvd\nNaples\, FL 34108 \nDoors Open at 5:30pm\nEvent Begins at 6:00pm \n\n\n  \n\n \nJustin’s Place is named in honor of Justin Holecek. Justin graduated from St. John Neumann High School in 1997\, and the University of Florida in 2002. \nHe was an intelligent young man with a wonderful personality but suffered from the disease of alcoholism. After years of abuse\, Justin died on September 18\, 2009\, at the age of 30. \nIt is our prayer that Justin’s Place will continue to provide recovery in a structured\, spiritual manner to people who reach out with a strong desire for a new beginning and a life free of addiction. \n\n 
URL:https://stmatthewshouse.org/event/justins-place-41st-graduation-ceremony-2-2/
CATEGORIES:Graduation
ATTACH;FMTTYPE=image/jpeg:https://stmatthewshouse.org/wp-content/uploads/2024/06/Cover-Image-800x425-1.jpg
END:VEVENT
END:VCALENDAR