BEGIN:VCALENDAR
VERSION:2.0
PRODID:-//St. Matthew&#039;s House - ECPv6.15.20//NONSGML v1.0//EN
CALSCALE:GREGORIAN
METHOD:PUBLISH
X-ORIGINAL-URL:https://stmatthewshouse.org
X-WR-CALDESC:Events for St. Matthew&#039;s House
REFRESH-INTERVAL;VALUE=DURATION:PT1H
X-Robots-Tag:noindex
X-PUBLISHED-TTL:PT1H
BEGIN:VTIMEZONE
TZID:America/New_York
BEGIN:DAYLIGHT
TZOFFSETFROM:-0500
TZOFFSETTO:-0400
TZNAME:EDT
DTSTART:20210314T070000
END:DAYLIGHT
BEGIN:STANDARD
TZOFFSETFROM:-0400
TZOFFSETTO:-0500
TZNAME:EST
DTSTART:20211107T060000
END:STANDARD
BEGIN:DAYLIGHT
TZOFFSETFROM:-0500
TZOFFSETTO:-0400
TZNAME:EDT
DTSTART:20220313T070000
END:DAYLIGHT
BEGIN:STANDARD
TZOFFSETFROM:-0400
TZOFFSETTO:-0500
TZNAME:EST
DTSTART:20221106T060000
END:STANDARD
BEGIN:DAYLIGHT
TZOFFSETFROM:-0500
TZOFFSETTO:-0400
TZNAME:EDT
DTSTART:20230312T070000
END:DAYLIGHT
BEGIN:STANDARD
TZOFFSETFROM:-0400
TZOFFSETTO:-0500
TZNAME:EST
DTSTART:20231105T060000
END:STANDARD
END:VTIMEZONE
BEGIN:VEVENT
DTSTART;TZID=America/New_York:20220305T190000
DTEND;TZID=America/New_York:20220305T203000
DTSTAMP:20260421T013858
CREATED:20211011T195414Z
LAST-MODIFIED:20240626T103815Z
UID:11420-1646506800-1646512200@stmatthewshouse.org
SUMMARY:Florida Everblades Vs. Greenville Swamp Rabbits
DESCRIPTION:Florida Everblades Vs. Greenville Swamp Rabbits \nCheer on the Florida Everblades as they take on the Greenville Swamp Rabbits on March 5! \nPlus\, if you purchase tickets through the link below\, St. Matthew’s House will receive $9 from every ticket sale as a donation. \n[maxbutton id=”1″ url=”https://everblades.spinzo.com/everblades-vs-swamp-rabbits-2022-03-05-GXUVD?group=st-matthews-house–c6kq” text=”Purchase Tickets” window=”new” ]
URL:https://stmatthewshouse.org/event/florida-everblades-vs-greenville-swamp-rabbits/
ATTACH;FMTTYPE=image/png:https://stmatthewshouse.org/wp-content/uploads/2024/06/Everblades-SMH.png
END:VEVENT
END:VCALENDAR