BEGIN:VCALENDAR
VERSION:2.0
PRODID:-//St. Matthew&#039;s House - ECPv6.15.20//NONSGML v1.0//EN
CALSCALE:GREGORIAN
METHOD:PUBLISH
X-WR-CALNAME:St. Matthew&#039;s House
X-ORIGINAL-URL:https://stmatthewshouse.org
X-WR-CALDESC:Events for St. Matthew&#039;s House
REFRESH-INTERVAL;VALUE=DURATION:PT1H
X-Robots-Tag:noindex
X-PUBLISHED-TTL:PT1H
BEGIN:VTIMEZONE
TZID:America/New_York
BEGIN:DAYLIGHT
TZOFFSETFROM:-0500
TZOFFSETTO:-0400
TZNAME:EDT
DTSTART:20200308T070000
END:DAYLIGHT
BEGIN:STANDARD
TZOFFSETFROM:-0400
TZOFFSETTO:-0500
TZNAME:EST
DTSTART:20201101T060000
END:STANDARD
BEGIN:DAYLIGHT
TZOFFSETFROM:-0500
TZOFFSETTO:-0400
TZNAME:EDT
DTSTART:20210314T070000
END:DAYLIGHT
BEGIN:STANDARD
TZOFFSETFROM:-0400
TZOFFSETTO:-0500
TZNAME:EST
DTSTART:20211107T060000
END:STANDARD
BEGIN:DAYLIGHT
TZOFFSETFROM:-0500
TZOFFSETTO:-0400
TZNAME:EDT
DTSTART:20220313T070000
END:DAYLIGHT
BEGIN:STANDARD
TZOFFSETFROM:-0400
TZOFFSETTO:-0500
TZNAME:EST
DTSTART:20221106T060000
END:STANDARD
END:VTIMEZONE
BEGIN:VEVENT
DTSTART;TZID=America/New_York:20211204T190000
DTEND;TZID=America/New_York:20211204T203000
DTSTAMP:20260421T063320
CREATED:20211011T185336Z
LAST-MODIFIED:20240626T103802Z
UID:11414-1638644400-1638649800@stmatthewshouse.org
SUMMARY:Florida Everblades Vs. Trois-Rivières Lions
DESCRIPTION:Florida Everblades Vs. Trois-Rivières Lions \nCheer on the Florida Everblades as they take on the Trois-Rivières Lions on December 4! \nPlus\, if you purchase tickets through the link below\, St. Matthew’s House will receive $9 from every ticket sale as a donation. \n[maxbutton id=”1″ url=”https://everblades.spinzo.com/florida-everblades-vs-troisrivires-lions-2021-12-04-FCZWC?group=st-matthews-house–c6kq” text=”Purchase Tickets” window=”new” ]
URL:https://stmatthewshouse.org/event/florida-everblades-vs-trois-rivieres-lions/
ATTACH;FMTTYPE=image/png:https://stmatthewshouse.org/wp-content/uploads/2024/06/Everblades-SMH.png
END:VEVENT
END:VCALENDAR