BEGIN:VCALENDAR
VERSION:2.0
PRODID:-//St. Matthew&#039;s House - ECPv6.15.20//NONSGML v1.0//EN
CALSCALE:GREGORIAN
METHOD:PUBLISH
X-ORIGINAL-URL:https://stmatthewshouse.org
X-WR-CALDESC:Events for St. Matthew&#039;s House
REFRESH-INTERVAL;VALUE=DURATION:PT1H
X-Robots-Tag:noindex
X-PUBLISHED-TTL:PT1H
BEGIN:VTIMEZONE
TZID:America/New_York
BEGIN:DAYLIGHT
TZOFFSETFROM:-0500
TZOFFSETTO:-0400
TZNAME:EDT
DTSTART:20200308T070000
END:DAYLIGHT
BEGIN:STANDARD
TZOFFSETFROM:-0400
TZOFFSETTO:-0500
TZNAME:EST
DTSTART:20201101T060000
END:STANDARD
BEGIN:DAYLIGHT
TZOFFSETFROM:-0500
TZOFFSETTO:-0400
TZNAME:EDT
DTSTART:20210314T070000
END:DAYLIGHT
BEGIN:STANDARD
TZOFFSETFROM:-0400
TZOFFSETTO:-0500
TZNAME:EST
DTSTART:20211107T060000
END:STANDARD
BEGIN:DAYLIGHT
TZOFFSETFROM:-0500
TZOFFSETTO:-0400
TZNAME:EDT
DTSTART:20220313T070000
END:DAYLIGHT
BEGIN:STANDARD
TZOFFSETFROM:-0400
TZOFFSETTO:-0500
TZNAME:EST
DTSTART:20221106T060000
END:STANDARD
END:VTIMEZONE
BEGIN:VEVENT
DTSTART;TZID=America/New_York:20211021T173000
DTEND;TZID=America/New_York:20211021T193000
DTSTAMP:20260421T094402
CREATED:20210818T235636Z
LAST-MODIFIED:20240626T103739Z
UID:11396-1634837400-1634844600@stmatthewshouse.org
SUMMARY:35th Justin’s Place Recovery Program Graduation Ceremony
DESCRIPTION:Join us for the 35th Justin’s Place Recovery Program Graduation Ceremony on October 21\, 2021. The doors will open at 5:30 p.m. Ceremony begins promptly at 6 p.m. \nThis event will also be livestreamed on Facebook Live and YouTube for those who cannot join us in person. \nWe look forward to celebrating with you as another class of graduates commence their transformed lives. \nTo RSVP\, please fill out the form below. \n\n \nJustin’s Place is named in honor of Justin Holecek. Justin graduated from St. John Neumann High School in 1997\, and the University of Florida in 2002. \nHe was an intelligent young man with a wonderful personality but suffered from the disease of alcoholism. After years of abuse\, Justin died on September 18\, 2009\, at the age of 30. \nIt is our prayer that Justin’s Place will continue to provide recovery in a structured\, spiritual manner to people who reach out with a strong desire for a new beginning and a life free of addiction. \n\n  \n\n \n\n\n \n\nFor more information about this event\, contact Nick Porter at (239) 774-0500\, ext. 161 or nporter@stmatthewshouse.org.
URL:https://stmatthewshouse.org/event/35th-justins-place-recovery-program-graduation-ceremony/
CATEGORIES:Graduation
ATTACH;FMTTYPE=image/jpeg:https://stmatthewshouse.org/wp-content/uploads/2024/06/Cover-Image-800x425-1.jpg
END:VEVENT
END:VCALENDAR