BEGIN:VCALENDAR
VERSION:2.0
PRODID:-//St. Matthew&#039;s House - ECPv6.15.20//NONSGML v1.0//EN
CALSCALE:GREGORIAN
METHOD:PUBLISH
X-ORIGINAL-URL:https://stmatthewshouse.org
X-WR-CALDESC:Events for St. Matthew&#039;s House
REFRESH-INTERVAL;VALUE=DURATION:PT1H
X-Robots-Tag:noindex
X-PUBLISHED-TTL:PT1H
BEGIN:VTIMEZONE
TZID:America/New_York
BEGIN:DAYLIGHT
TZOFFSETFROM:-0500
TZOFFSETTO:-0400
TZNAME:EDT
DTSTART:20200308T070000
END:DAYLIGHT
BEGIN:STANDARD
TZOFFSETFROM:-0400
TZOFFSETTO:-0500
TZNAME:EST
DTSTART:20201101T060000
END:STANDARD
BEGIN:DAYLIGHT
TZOFFSETFROM:-0500
TZOFFSETTO:-0400
TZNAME:EDT
DTSTART:20210314T070000
END:DAYLIGHT
BEGIN:STANDARD
TZOFFSETFROM:-0400
TZOFFSETTO:-0500
TZNAME:EST
DTSTART:20211107T060000
END:STANDARD
BEGIN:DAYLIGHT
TZOFFSETFROM:-0500
TZOFFSETTO:-0400
TZNAME:EDT
DTSTART:20220313T070000
END:DAYLIGHT
BEGIN:STANDARD
TZOFFSETFROM:-0400
TZOFFSETTO:-0500
TZNAME:EST
DTSTART:20221106T060000
END:STANDARD
END:VTIMEZONE
BEGIN:VEVENT
DTSTART;TZID=America/New_York:20210629T180000
DTEND;TZID=America/New_York:20210629T193000
DTSTAMP:20260421T140400
CREATED:20210517T184001Z
LAST-MODIFIED:20240626T104604Z
UID:11347-1624989600-1624995000@stmatthewshouse.org
SUMMARY:34th Justin’s Place Recovery Program Graduation Ceremony
DESCRIPTION:You are cordially invited to join us\, in person\, for our 34th Justin’s Place Recovery Program Graduation Ceremony. Please join with us in this celebration of hope and renewal honoring our June Justin’s Place Recovery Program graduates. \nTuesday\, June 29th\, 2021\nDoors open at 5:30pm\nCeremony is at 6:00pm \nCovenant Church of Naples\n6926 Trail Blvd\, Naples\, FL 34108 \nIf you cannot join us in person\, please tune into our Facebook page or YouTube channel to watch it live. Live streaming this important event will allow family\, friends and supporters of our graduates and St. Matthew’s House to share in this joyous event. \nYou can help support the Justin’s Place program by texting ‘JUSTINTIME’ TO 41444. \nTo RSVP\, please fill out the form below or for more information\, contact Nick Porter at (239) 774-0500 ext 161 or nporter@stmatthewshouse.org. \n\nJustin’s’ Place is named in honor of Justin Holecek. Justin graduated from St. John Neumann High School in 1997\, and the University of Florida in 2002. \nHe was an intelligent young man with a wonderful personality but suffered from the disease of alcoholism. After years of abuse\, Justin died on September 18\, 2009\, at the age of 30. \nIt is our prayer that Justin’s Place will continue to provide recovery in a structured\, spiritual manner to people who reach out with a strong desire for a new beginning and a life free of addiction.
URL:https://stmatthewshouse.org/event/34th-justins-place-recovery-program-graduation-ceremony/
CATEGORIES:Graduation
ATTACH;FMTTYPE=image/jpeg:https://stmatthewshouse.org/wp-content/uploads/2024/06/Cover-Image-800x425-1.jpg
END:VEVENT
END:VCALENDAR