BEGIN:VCALENDAR
VERSION:2.0
PRODID:-//St. Matthew&#039;s House - ECPv6.15.20//NONSGML v1.0//EN
CALSCALE:GREGORIAN
METHOD:PUBLISH
X-ORIGINAL-URL:https://stmatthewshouse.org
X-WR-CALDESC:Events for St. Matthew&#039;s House
REFRESH-INTERVAL;VALUE=DURATION:PT1H
X-Robots-Tag:noindex
X-PUBLISHED-TTL:PT1H
BEGIN:VTIMEZONE
TZID:America/New_York
BEGIN:DAYLIGHT
TZOFFSETFROM:-0500
TZOFFSETTO:-0400
TZNAME:EDT
DTSTART:20200308T070000
END:DAYLIGHT
BEGIN:STANDARD
TZOFFSETFROM:-0400
TZOFFSETTO:-0500
TZNAME:EST
DTSTART:20201101T060000
END:STANDARD
BEGIN:DAYLIGHT
TZOFFSETFROM:-0500
TZOFFSETTO:-0400
TZNAME:EDT
DTSTART:20210314T070000
END:DAYLIGHT
BEGIN:STANDARD
TZOFFSETFROM:-0400
TZOFFSETTO:-0500
TZNAME:EST
DTSTART:20211107T060000
END:STANDARD
BEGIN:DAYLIGHT
TZOFFSETFROM:-0500
TZOFFSETTO:-0400
TZNAME:EDT
DTSTART:20220313T070000
END:DAYLIGHT
BEGIN:STANDARD
TZOFFSETFROM:-0400
TZOFFSETTO:-0500
TZNAME:EST
DTSTART:20221106T060000
END:STANDARD
END:VTIMEZONE
BEGIN:VEVENT
DTSTART;VALUE=DATE:20210503
DTEND;VALUE=DATE:20210504
DTSTAMP:20260421T165453
CREATED:20210224T020136Z
LAST-MODIFIED:20240626T104611Z
UID:11317-1620000000-1620086399@stmatthewshouse.org
SUMMARY:23rd Annual Dean Lind Memorial Golf Classic
DESCRIPTION:Due to overwhelming support and response\, the 23rd annual Dean Lind Memorial Golf Classic is officially full. We thank our entire community for the support. If you are interested in playing or supporting this event\, we have created an afternoon mini-tournament for those interested in still participating to help raise funds for St. Matthew’s House. We have limited slots available for our afternoon tee times. If you or your foursome would like to play in our afternoon flight\, please email Nick Porter directly at nporter@stmattewshouse.org and he will be in communication with you quickly. We also have a waiting list for those that are interested for morning only.\nAfter a one-year hiatus\, one of the premier and longest running charity golf events in Southwest Florida is back! The May 3\, 2021 Dean Lind Memorial Golf Classic will be held at the prestigious Tiburón Golf Club in beautiful Naples\, Florida. \nThe Dean Lind Memorial Golf Classic celebrates its 23rd year of raising critical funds for St. Matthew’s House to support our work to bring hope\, help and healing to individuals and families facing hunger\, homelessness\, poverty and addiction. \nABOUT TIBURÓN GOLF CLUB\nTiburón Golf Club is known for its statement making\, 27\,000-square foot Mediterranean-style clubhouse. Home to the LPGA Tour’s CME Group Tour Championship and PGA Tour’s QBE Shootout\, Tiburón presents two 18-hole\, Greg Norman-designed golf courses – The Gold and The Black. The Dean Lind Memorial Golf Classic will be held on The Gold Course. \nConsistently rated among Florida’s top 20 golf facilities by Golf Digest and GOLF\, Tiburón courses play to a par of 72 and feature five sets of tees. The Gold Course can play as long as 7\,382 yards from the championship tees. \n[maxbutton id=”5″] | [maxbutton id=”7″] \nYou can print off a paper registration form or print off a paper fundraising form. \nInterested in being a sponsor\, looking for more information or want to donate an item to our online auction?\nContact Nick Porter at (239) 774-0500 x161 or by email at nporter@stmatthewshouse.org. \nThank You to Our Sponsors\n\nPresenting Sponsor\n \n\nAce Sponsor\n \n\nBirdie Sponsors\n \n \n \n \n \n\nPar Sponsors\n \n \n \n \n \n \n \n\nHole In One Sponsor\n \n\nHole Sponsors
URL:https://stmatthewshouse.org/event/23rd-annual-dean-lind-memorial-golf-classic-2021/
ATTACH;FMTTYPE=image/jpeg:https://stmatthewshouse.org/wp-content/uploads/2024/06/website-event-banner.jpg
END:VEVENT
END:VCALENDAR