BEGIN:VCALENDAR
VERSION:2.0
PRODID:-//St. Matthew&#039;s House - ECPv6.15.20//NONSGML v1.0//EN
CALSCALE:GREGORIAN
METHOD:PUBLISH
X-ORIGINAL-URL:https://stmatthewshouse.org
X-WR-CALDESC:Events for St. Matthew&#039;s House
REFRESH-INTERVAL;VALUE=DURATION:PT1H
X-Robots-Tag:noindex
X-PUBLISHED-TTL:PT1H
BEGIN:VTIMEZONE
TZID:America/New_York
BEGIN:DAYLIGHT
TZOFFSETFROM:-0500
TZOFFSETTO:-0400
TZNAME:EDT
DTSTART:20190310T070000
END:DAYLIGHT
BEGIN:STANDARD
TZOFFSETFROM:-0400
TZOFFSETTO:-0500
TZNAME:EST
DTSTART:20191103T060000
END:STANDARD
BEGIN:DAYLIGHT
TZOFFSETFROM:-0500
TZOFFSETTO:-0400
TZNAME:EDT
DTSTART:20200308T070000
END:DAYLIGHT
BEGIN:STANDARD
TZOFFSETFROM:-0400
TZOFFSETTO:-0500
TZNAME:EST
DTSTART:20201101T060000
END:STANDARD
BEGIN:DAYLIGHT
TZOFFSETFROM:-0500
TZOFFSETTO:-0400
TZNAME:EDT
DTSTART:20210314T070000
END:DAYLIGHT
BEGIN:STANDARD
TZOFFSETFROM:-0400
TZOFFSETTO:-0500
TZNAME:EST
DTSTART:20211107T060000
END:STANDARD
END:VTIMEZONE
BEGIN:VEVENT
DTSTART;TZID=America/New_York:20200414T130000
DTEND;TZID=America/New_York:20200414T170000
DTSTAMP:20260422T104653
CREATED:20200413T231605Z
LAST-MODIFIED:20240626T103631Z
UID:11297-1586869200-1586883600@stmatthewshouse.org
SUMMARY:St. Matthew's House Mobile Food Pantry: Special Date
DESCRIPTION:With the uncertainty of the COVID-19 crisis\, we have moved to drive-through food distribution. This is a special date\, Tuesday 4/14/2020\, from 1-5 PM at 2601 Airport Road S\, Naples\, Florida. Bring your Collier County identification or driver’s license. \n\n\n \n\n\n*More dates may be added as food becomes available.
URL:https://stmatthewshouse.org/event/st-matthews-house-mobile-food-pantry-special-date/
ATTACH;FMTTYPE=image/jpeg:https://stmatthewshouse.org/wp-content/uploads/2024/06/Mobile-Pantry-Update-e1586805732913.jpg
END:VEVENT
END:VCALENDAR