BEGIN:VCALENDAR
VERSION:2.0
PRODID:-//St. Matthew&#039;s House - ECPv6.15.20//NONSGML v1.0//EN
CALSCALE:GREGORIAN
METHOD:PUBLISH
X-ORIGINAL-URL:https://stmatthewshouse.org
X-WR-CALDESC:Events for St. Matthew&#039;s House
REFRESH-INTERVAL;VALUE=DURATION:PT1H
X-Robots-Tag:noindex
X-PUBLISHED-TTL:PT1H
BEGIN:VTIMEZONE
TZID:America/New_York
BEGIN:DAYLIGHT
TZOFFSETFROM:-0500
TZOFFSETTO:-0400
TZNAME:EDT
DTSTART:20190310T070000
END:DAYLIGHT
BEGIN:STANDARD
TZOFFSETFROM:-0400
TZOFFSETTO:-0500
TZNAME:EST
DTSTART:20191103T060000
END:STANDARD
BEGIN:DAYLIGHT
TZOFFSETFROM:-0500
TZOFFSETTO:-0400
TZNAME:EDT
DTSTART:20200308T070000
END:DAYLIGHT
BEGIN:STANDARD
TZOFFSETFROM:-0400
TZOFFSETTO:-0500
TZNAME:EST
DTSTART:20201101T060000
END:STANDARD
BEGIN:DAYLIGHT
TZOFFSETFROM:-0500
TZOFFSETTO:-0400
TZNAME:EDT
DTSTART:20210314T070000
END:DAYLIGHT
BEGIN:STANDARD
TZOFFSETFROM:-0400
TZOFFSETTO:-0500
TZNAME:EST
DTSTART:20211107T060000
END:STANDARD
END:VTIMEZONE
BEGIN:VEVENT
DTSTART;TZID=America/New_York:20200215T090000
DTEND;TZID=America/New_York:20200215T180000
DTSTAMP:20260422T133117
CREATED:20200214T212303Z
LAST-MODIFIED:20240626T103625Z
UID:11294-1581757200-1581789600@stmatthewshouse.org
SUMMARY:New Fort Myers Thrift Store: GRAND OPENING!
DESCRIPTION:Join us Saturday\, February 15th for the 🎈GRAND OPENING 🎈 of our largest store yet. 13140 Metro Parkway\, Fort Myers 9 AM to 6 PM \nStore Hours: Monday through Saturday – 9 AM – 6 PMREFRESHMENTS & GIVEAWAYSBE AMONG THE FIRST TO SHOP & SAVE!First 25 shoppers to arrive on 2/15 receive 50% off… Next 50 shoppers receive 25% off!Surprise Mystery Sales Weekly!
URL:https://stmatthewshouse.org/event/new-fort-myers-thrift-store-grand-opening/
ATTACH;FMTTYPE=image/png:https://stmatthewshouse.org/wp-content/uploads/2024/06/86269441_10158194652944123_4902327490434826240_o.png
END:VEVENT
END:VCALENDAR