BEGIN:VCALENDAR
VERSION:2.0
PRODID:-//St. Matthew&#039;s House - ECPv6.15.20//NONSGML v1.0//EN
CALSCALE:GREGORIAN
METHOD:PUBLISH
X-WR-CALNAME:St. Matthew&#039;s House
X-ORIGINAL-URL:https://stmatthewshouse.org
X-WR-CALDESC:Events for St. Matthew&#039;s House
REFRESH-INTERVAL;VALUE=DURATION:PT1H
X-Robots-Tag:noindex
X-PUBLISHED-TTL:PT1H
BEGIN:VTIMEZONE
TZID:America/New_York
BEGIN:DAYLIGHT
TZOFFSETFROM:-0500
TZOFFSETTO:-0400
TZNAME:EDT
DTSTART:20190310T070000
END:DAYLIGHT
BEGIN:STANDARD
TZOFFSETFROM:-0400
TZOFFSETTO:-0500
TZNAME:EST
DTSTART:20191103T060000
END:STANDARD
BEGIN:DAYLIGHT
TZOFFSETFROM:-0500
TZOFFSETTO:-0400
TZNAME:EDT
DTSTART:20200308T070000
END:DAYLIGHT
BEGIN:STANDARD
TZOFFSETFROM:-0400
TZOFFSETTO:-0500
TZNAME:EST
DTSTART:20201101T060000
END:STANDARD
BEGIN:DAYLIGHT
TZOFFSETFROM:-0500
TZOFFSETTO:-0400
TZNAME:EDT
DTSTART:20210314T070000
END:DAYLIGHT
BEGIN:STANDARD
TZOFFSETFROM:-0400
TZOFFSETTO:-0500
TZNAME:EST
DTSTART:20211107T060000
END:STANDARD
END:VTIMEZONE
BEGIN:VEVENT
DTSTART;TZID=America/New_York:20200208T100000
DTEND;TZID=America/New_York:20200208T160000
DTSTAMP:20260422T132956
CREATED:20191002T002600Z
LAST-MODIFIED:20240626T103621Z
UID:11287-1581156000-1581177600@stmatthewshouse.org
SUMMARY:Cars on 5th 2020
DESCRIPTION:16th Annual Cars on 5th\nBenefiting St. Matthew’s House\nSaturday\, February 8\, 2020\n10 am – 4 pm\nSPONSORED IN PART BY \n\n\n\n\n\n\n\n\n\n\n\n\n\n\n\n\n\n\n\n\n\n\n\n\n\n\nThe 16th annual Cars on 5th show will be held on the 8th of February\, 2020 on beautiful 5th Avenue South in Naples. This event\, the largest one-day event in Naples\, is organized by the Naples Chapter of the Ferrari Club of America. Featuring more than 575 cars including more than 125 Ferraris and other exotic\, vintage muscle cars and more. The event will once again raise critically important funds for St. Matthew’s House\, which does so much for the homeless and those in need in the Southwest Florida area. All of the proceeds directly benefit the most vulnerable of our community. This year’s show will run from 10 a.m. to 4 p.m.  All attendees will need to wear a wristband for entrance to the event areas. An entrance fee of $20 will be charged for those over 12 years of age at all the access points on 5th Avenue. VIP admission will be $50 a person\, and will include access to the VIP area containing highest value exotic cars at Cars on 5th\, two drink tickets (beer and wine available)\, food by Delicious by Design Catering\, and private restroom facilities\, as well as general admission to the rest of the event.\n\nONLINE PRE-SALE HAS ENDED! WRISTBANDS CAN BE PURCHASED AT THE EVENT.\n\n\n\n\n\n\n\n\n\n\n\n  \n\nGet in on the action by bidding on these amazing auction items\, or entering the Porche Macan raffle.\nLive Auction\nThere are two items up for bid: \n1. Travel for up to 4 hours on the new HondaJet Elite. Value $15\,000; starting bid $5\,000 in $100 increments. \n2. 24 Hours at LeMans\, signed by Leroy Neiman serigraph. Value: $10\,000 \n3.Helicopter Sunset Tour of Naples for ½ hour. Value: $1\,000. \nPorsche Raffle\nInformation: 2-year lease for 2020 Porsche Macan: Sapphire Blue Metallic with Premium Package Plus and Sport Wheels (VIN WP1AA2A56LLB01780). \n\nTo learn more about last year’s event\, visit the Cars on 5th website (click here) or the event press release (click here). \nFor more information about Cars on 5th 2020 contact Nick Porter at nporter@stmatthewshouse.org or call (239) 228-2803
URL:https://stmatthewshouse.org/event/cars-on-5th-2020/
ATTACH;FMTTYPE=image/png:https://stmatthewshouse.org/wp-content/uploads/2024/06/Carson5th_Website3-01-1.png
END:VEVENT
END:VCALENDAR