BEGIN:VCALENDAR
VERSION:2.0
PRODID:-//St. Matthew&#039;s House - ECPv6.15.20//NONSGML v1.0//EN
CALSCALE:GREGORIAN
METHOD:PUBLISH
X-ORIGINAL-URL:https://stmatthewshouse.org
X-WR-CALDESC:Events for St. Matthew&#039;s House
REFRESH-INTERVAL;VALUE=DURATION:PT1H
X-Robots-Tag:noindex
X-PUBLISHED-TTL:PT1H
BEGIN:VTIMEZONE
TZID:America/New_York
BEGIN:DAYLIGHT
TZOFFSETFROM:-0500
TZOFFSETTO:-0400
TZNAME:EDT
DTSTART:20180311T070000
END:DAYLIGHT
BEGIN:STANDARD
TZOFFSETFROM:-0400
TZOFFSETTO:-0500
TZNAME:EST
DTSTART:20181104T060000
END:STANDARD
BEGIN:DAYLIGHT
TZOFFSETFROM:-0500
TZOFFSETTO:-0400
TZNAME:EDT
DTSTART:20190310T070000
END:DAYLIGHT
BEGIN:STANDARD
TZOFFSETFROM:-0400
TZOFFSETTO:-0500
TZNAME:EST
DTSTART:20191103T060000
END:STANDARD
BEGIN:DAYLIGHT
TZOFFSETFROM:-0500
TZOFFSETTO:-0400
TZNAME:EDT
DTSTART:20200308T070000
END:DAYLIGHT
BEGIN:STANDARD
TZOFFSETFROM:-0400
TZOFFSETTO:-0500
TZNAME:EST
DTSTART:20201101T060000
END:STANDARD
END:VTIMEZONE
BEGIN:VEVENT
DTSTART;TZID=America/New_York:20190930T130000
DTEND;TZID=America/New_York:20190930T180000
DTSTAMP:20260422T190303
CREATED:20190924T215243Z
LAST-MODIFIED:20240626T103615Z
UID:11282-1569848400-1569866400@stmatthewshouse.org
SUMMARY:Mobile Food Pantry | Ft. Myers
DESCRIPTION:The St. Matthew’s House Mobile Food Pantry is now serving Ft. Myers! \n \nWHAT: Monthly choice food pantry \nWHERE: Fort Myers Thrift Store\, 3954 Broadway\, Fort Myers\, FL 33901 \nWHEN: September 30th (Last Monday of each month)\, from 1 PM to 6 PM \nELIGIBILITY: Lee County residents\, 62 years and up\, dependant children 17 years & younger\, or proof of disability \nWHAT TO BRING: \n\nFlorida drivers Licence or ID\nOriginal Social Security Card for you and your children\nProof of disability\, if applicable\nBirth Certificate for all minors in the household under 17\n\nQUESTIONS? \nCall St. Matthew’s House at (239) 774-0500 or learn more at stmatthewshouse.org
URL:https://stmatthewshouse.org/event/mobile-food-pantry-ft-myers/
ATTACH;FMTTYPE=image/jpeg:https://stmatthewshouse.org/wp-content/uploads/2024/06/MobileFoodPantry_FB-01.jpg
END:VEVENT
END:VCALENDAR