BEGIN:VCALENDAR
VERSION:2.0
PRODID:-//St. Matthew&#039;s House - ECPv6.15.20//NONSGML v1.0//EN
CALSCALE:GREGORIAN
METHOD:PUBLISH
X-ORIGINAL-URL:https://stmatthewshouse.org
X-WR-CALDESC:Events for St. Matthew&#039;s House
REFRESH-INTERVAL;VALUE=DURATION:PT1H
X-Robots-Tag:noindex
X-PUBLISHED-TTL:PT1H
BEGIN:VTIMEZONE
TZID:America/New_York
BEGIN:DAYLIGHT
TZOFFSETFROM:-0500
TZOFFSETTO:-0400
TZNAME:EDT
DTSTART:20180311T070000
END:DAYLIGHT
BEGIN:STANDARD
TZOFFSETFROM:-0400
TZOFFSETTO:-0500
TZNAME:EST
DTSTART:20181104T060000
END:STANDARD
BEGIN:DAYLIGHT
TZOFFSETFROM:-0500
TZOFFSETTO:-0400
TZNAME:EDT
DTSTART:20190310T070000
END:DAYLIGHT
BEGIN:STANDARD
TZOFFSETFROM:-0400
TZOFFSETTO:-0500
TZNAME:EST
DTSTART:20191103T060000
END:STANDARD
BEGIN:DAYLIGHT
TZOFFSETFROM:-0500
TZOFFSETTO:-0400
TZNAME:EDT
DTSTART:20200308T070000
END:DAYLIGHT
BEGIN:STANDARD
TZOFFSETFROM:-0400
TZOFFSETTO:-0500
TZNAME:EST
DTSTART:20201101T060000
END:STANDARD
END:VTIMEZONE
BEGIN:VEVENT
DTSTART;TZID=America/New_York:20190622T090000
DTEND;TZID=America/New_York:20190622T170000
DTSTAMP:20260423T004041
CREATED:20190619T001452Z
LAST-MODIFIED:20240626T104643Z
UID:11266-1561194000-1561222800@stmatthewshouse.org
SUMMARY:Food Distribution in Fort Myers
DESCRIPTION:FOOD DISTRIBUTION \nGet a free shopping cart full of food Backpacks with hygiene supplies\nUsed clothing swap\nFree haircuts \n**RAIN OR SHINE** \nSATURDAY\, JUNE 22\, 2019\nHOUSE OF RIDE NATURE\n2464 SECOND STREET\, FT MYERS\nFOOD DISTRIBUTION STARTS AT 9:00 AM
URL:https://stmatthewshouse.org/event/food-distribution-in-fort-myers/
LOCATION:Donate
ATTACH;FMTTYPE=image/jpeg:https://stmatthewshouse.org/wp-content/uploads/2024/06/FoodDistro.jpg
END:VEVENT
END:VCALENDAR