BEGIN:VCALENDAR
VERSION:2.0
PRODID:-//St. Matthew&#039;s House - ECPv6.15.20//NONSGML v1.0//EN
CALSCALE:GREGORIAN
METHOD:PUBLISH
X-ORIGINAL-URL:https://stmatthewshouse.org
X-WR-CALDESC:Events for St. Matthew&#039;s House
REFRESH-INTERVAL;VALUE=DURATION:PT1H
X-Robots-Tag:noindex
X-PUBLISHED-TTL:PT1H
BEGIN:VTIMEZONE
TZID:America/New_York
BEGIN:DAYLIGHT
TZOFFSETFROM:-0500
TZOFFSETTO:-0400
TZNAME:EDT
DTSTART:20180311T070000
END:DAYLIGHT
BEGIN:STANDARD
TZOFFSETFROM:-0400
TZOFFSETTO:-0500
TZNAME:EST
DTSTART:20181104T060000
END:STANDARD
BEGIN:DAYLIGHT
TZOFFSETFROM:-0500
TZOFFSETTO:-0400
TZNAME:EDT
DTSTART:20190310T070000
END:DAYLIGHT
BEGIN:STANDARD
TZOFFSETFROM:-0400
TZOFFSETTO:-0500
TZNAME:EST
DTSTART:20191103T060000
END:STANDARD
BEGIN:DAYLIGHT
TZOFFSETFROM:-0500
TZOFFSETTO:-0400
TZNAME:EDT
DTSTART:20200308T070000
END:DAYLIGHT
BEGIN:STANDARD
TZOFFSETFROM:-0400
TZOFFSETTO:-0500
TZNAME:EST
DTSTART:20201101T060000
END:STANDARD
END:VTIMEZONE
BEGIN:VEVENT
DTSTART;TZID=America/New_York:20190228T110000
DTEND;TZID=America/New_York:20190228T150000
DTSTAMP:20260423T052701
CREATED:20190222T233825Z
LAST-MODIFIED:20240626T104721Z
UID:11255-1551351600-1551366000@stmatthewshouse.org
SUMMARY:J. McLAUGHLIN Sip and Shop
DESCRIPTION:  \nEnjoy light sips and bites while you shop on our RESORT COLLECTION. \nJ. McLAUGHLIN\nVenetian Village\n4260 Gulf Shore Blvd. N\nNaples\, FL\n(239) 776-7772 \n15% of the sales benefit St. Matthew’s House.
URL:https://stmatthewshouse.org/event/j-mclaughlin-sip-and-shop/
ATTACH;FMTTYPE=image/jpeg:https://stmatthewshouse.org/wp-content/uploads/2024/06/Jmcevent.jpg
END:VEVENT
END:VCALENDAR