BEGIN:VCALENDAR
VERSION:2.0
PRODID:-//St. Matthew&#039;s House - ECPv6.15.20//NONSGML v1.0//EN
CALSCALE:GREGORIAN
METHOD:PUBLISH
X-ORIGINAL-URL:https://stmatthewshouse.org
X-WR-CALDESC:Events for St. Matthew&#039;s House
REFRESH-INTERVAL;VALUE=DURATION:PT1H
X-Robots-Tag:noindex
X-PUBLISHED-TTL:PT1H
BEGIN:VTIMEZONE
TZID:America/New_York
BEGIN:DAYLIGHT
TZOFFSETFROM:-0500
TZOFFSETTO:-0400
TZNAME:EDT
DTSTART:20180311T070000
END:DAYLIGHT
BEGIN:STANDARD
TZOFFSETFROM:-0400
TZOFFSETTO:-0500
TZNAME:EST
DTSTART:20181104T060000
END:STANDARD
BEGIN:DAYLIGHT
TZOFFSETFROM:-0500
TZOFFSETTO:-0400
TZNAME:EDT
DTSTART:20190310T070000
END:DAYLIGHT
BEGIN:STANDARD
TZOFFSETFROM:-0400
TZOFFSETTO:-0500
TZNAME:EST
DTSTART:20191103T060000
END:STANDARD
BEGIN:DAYLIGHT
TZOFFSETFROM:-0500
TZOFFSETTO:-0400
TZNAME:EDT
DTSTART:20200308T070000
END:DAYLIGHT
BEGIN:STANDARD
TZOFFSETFROM:-0400
TZOFFSETTO:-0500
TZNAME:EST
DTSTART:20201101T060000
END:STANDARD
END:VTIMEZONE
BEGIN:VEVENT
DTSTART;VALUE=DATE:20190209
DTEND;VALUE=DATE:20190210
DTSTAMP:20260423T065420
CREATED:20180718T224448Z
LAST-MODIFIED:20240626T104718Z
UID:11241-1549670400-1549756799@stmatthewshouse.org
SUMMARY:Cars on 5th
DESCRIPTION:15TH ANNUAL CARS ON 5TH\nbenefiting St. Matthew’s House\nSATURDAY 9TH FEBRUARY\, 2019\nSkip the lines! Purchase your general admission and VIP access wristbands online today! \nBUY GENERAL ADMISSION\n BUY VIP ADMISSION\n  \nAbout the Event\nThe 15th annual Cars on Fifth show will be held on the 9 of February\, 2019 on beautiful 5th Avenue South in Naples. This event\, the largest one-day event in Naples\, is organized by the Naples Chapter of the Ferrari Club of America. The event will once again raise critically important funds for St. Matthew’s House\, which does so much for the homeless and those in need in the Naples area. More than $250\,000 has been raised at each of the last two year’s Cars on Fifth shows\, with 100% of the proceeds directly benefiting of St. Matthew’s House. \n“We are excited to partner again with the Ferrari Club of America’s Naples Chapter for Cars on 5th\,” said Vann Ellison\, President and CEO of St. Matthew’s House. “This event\, which has become a highlight every year in our community\, is our largest fundraising event. St. Matthew’s House takes 100% of the proceeds from Cars on Fifth and put it right back into the community\, directly impacting lives of vulnerable men\, women\, and families among us.” continued Ellison. For over 30 years\, St. Matthew’s House has fought homelessness\, hunger\, substance abuse\, and poverty in Southwest Florida. \nThis year’s show\, which will run from 10 a.m. to 4 p.m.\, will feature more than 575 cars\, including over 125 Ferraris\, as well as many other domestic and international exotics\, vintage and American muscle cars\, Corvettes\, and Porsches that will satisfy any car enthusiast’s must-see list. Sponsorship of the event is provided by Ferrari of Fort Lauderdale\, Seminole Casino Hotel in Immokalee\, Bank of America\, Key Bank\, Wells Fargo Advisors\, US Trust\, MarineMax\, Naples Luxury Imports and Tire Choice. \nAdditionally\, this year the Ferrari Club will be showcasing a number of premium exotic Ferraris in a dedicated area known as the Ferrari Scuderia. This will be a VIP section dedicated to the most valuable and special Ferraris\, and MarineMax will also be exhibiting stunning boats designed by Pininfarina in this area. \nGeneral and VIP Admission for Cars on 5th\nThere will be a change this year in the admissions process for the event. All attendees will need to wear a wristband for entrance to the event area. \n\nAn entrance fee of $20 will be charged for those over 12 years of age at all the access points on 5th Avenue.\nVIP admission will be $40 a person\, and will include access to the VIP area containing highest value exotic cars at Cars on 5th\, access to exotic boats designed by Pininfarina\, two drink tickets (beer and wine available)\, and private restroom facilities.\nTo reduce parking congestion around 5th Avenue\, remote parking will be provided at the Collier County Government Center at Airport and 41\, and free shuttle buses will be available from 6:30 a.m. until 5 p.m.\nNotice will be given to Uber and Lyft to also have additional cars in the local area.\n\nThe 2019 running of Cars on 5th will be the first opportunity to evaluate these changes\, and the Ferrari Club and the Naples city staff will evaluate the success of these changes after the show. The overriding goal remains\, as always\, to benefit St. Matthew’s House in its mission\, while providing a fun and safe day for the residents of Collier County. \nPurchase General Admission and VIP Access Wristbands Here\n>>>Cars on 5th online store \n  \n  \n  \n 
URL:https://stmatthewshouse.org/event/cars-on-5th-2019/
ATTACH;FMTTYPE=image/jpeg:https://stmatthewshouse.org/wp-content/uploads/2024/06/Cars2019EventHeader-1.jpg
END:VEVENT
END:VCALENDAR