BEGIN:VCALENDAR
VERSION:2.0
PRODID:-//St. Matthew&#039;s House - ECPv6.15.20//NONSGML v1.0//EN
CALSCALE:GREGORIAN
METHOD:PUBLISH
X-ORIGINAL-URL:https://stmatthewshouse.org
X-WR-CALDESC:Events for St. Matthew&#039;s House
REFRESH-INTERVAL;VALUE=DURATION:PT1H
X-Robots-Tag:noindex
X-PUBLISHED-TTL:PT1H
BEGIN:VTIMEZONE
TZID:UTC
BEGIN:STANDARD
TZOFFSETFROM:+0000
TZOFFSETTO:+0000
TZNAME:UTC
DTSTART:20170101T000000
END:STANDARD
END:VTIMEZONE
BEGIN:VEVENT
DTSTART;TZID=UTC:20180401T120000
DTEND;TZID=UTC:20180401T160000
DTSTAMP:20260423T203608
CREATED:20171024T192001Z
LAST-MODIFIED:20240626T103500Z
UID:11215-1522584000-1522598400@stmatthewshouse.org
SUMMARY:Easter - Naples
DESCRIPTION:
URL:https://stmatthewshouse.org/event/easter-naples/
END:VEVENT
END:VCALENDAR