BEGIN:VCALENDAR
VERSION:2.0
PRODID:-//St. Matthew&#039;s House - ECPv6.15.20//NONSGML v1.0//EN
CALSCALE:GREGORIAN
METHOD:PUBLISH
X-ORIGINAL-URL:https://stmatthewshouse.org
X-WR-CALDESC:Events for St. Matthew&#039;s House
REFRESH-INTERVAL;VALUE=DURATION:PT1H
X-Robots-Tag:noindex
X-PUBLISHED-TTL:PT1H
BEGIN:VTIMEZONE
TZID:UTC
BEGIN:STANDARD
TZOFFSETFROM:+0000
TZOFFSETTO:+0000
TZNAME:UTC
DTSTART:20170101T000000
END:STANDARD
END:VTIMEZONE
BEGIN:VEVENT
DTSTART;TZID=UTC:20180308T173000
DTEND;TZID=UTC:20180308T200000
DTSTAMP:20260423T215606
CREATED:20171024T191250Z
LAST-MODIFIED:20240626T103456Z
UID:11213-1520530200-1520539200@stmatthewshouse.org
SUMMARY:Celebration of Hope
DESCRIPTION:
URL:https://stmatthewshouse.org/event/celebration-of-hope/
END:VEVENT
END:VCALENDAR