BEGIN:VCALENDAR
VERSION:2.0
PRODID:-//St. Matthew&#039;s House - ECPv6.15.20//NONSGML v1.0//EN
CALSCALE:GREGORIAN
METHOD:PUBLISH
X-ORIGINAL-URL:https://stmatthewshouse.org
X-WR-CALDESC:Events for St. Matthew&#039;s House
REFRESH-INTERVAL;VALUE=DURATION:PT1H
X-Robots-Tag:noindex
X-PUBLISHED-TTL:PT1H
BEGIN:VTIMEZONE
TZID:UTC
BEGIN:STANDARD
TZOFFSETFROM:+0000
TZOFFSETTO:+0000
TZNAME:UTC
DTSTART:20170101T000000
END:STANDARD
END:VTIMEZONE
BEGIN:VEVENT
DTSTART;TZID=UTC:20180115T173000
DTEND;TZID=UTC:20180115T203000
DTSTAMP:20260424T005825
CREATED:20171024T183602Z
LAST-MODIFIED:20240626T104748Z
UID:11204-1516037400-1516048200@stmatthewshouse.org
SUMMARY:San Marco Benefit Dinner
DESCRIPTION:San Marco Catholic Church \nFor more information please contact \n Ashley Klopper\n(239) 774-0500\, ext 108\n \nAshlieK@stmatthewshouse.org
URL:https://stmatthewshouse.org/event/san-marco-celebration-hope/
LOCATION:Care Residential
ATTACH;FMTTYPE=image/png:https://stmatthewshouse.org/wp-content/uploads/2024/06/SMH_Logo_Full_Tag_Line_Outlines.png
END:VEVENT
END:VCALENDAR