BEGIN:VCALENDAR
VERSION:2.0
PRODID:-//St. Matthew&#039;s House - ECPv6.15.20//NONSGML v1.0//EN
CALSCALE:GREGORIAN
METHOD:PUBLISH
X-ORIGINAL-URL:https://stmatthewshouse.org
X-WR-CALDESC:Events for St. Matthew&#039;s House
REFRESH-INTERVAL;VALUE=DURATION:PT1H
X-Robots-Tag:noindex
X-PUBLISHED-TTL:PT1H
BEGIN:VTIMEZONE
TZID:UTC
BEGIN:STANDARD
TZOFFSETFROM:+0000
TZOFFSETTO:+0000
TZNAME:UTC
DTSTART:20160101T000000
END:STANDARD
END:VTIMEZONE
BEGIN:VEVENT
DTSTART;TZID=UTC:20171028T090000
DTEND;TZID=UTC:20171028T090000
DTSTAMP:20260424T050306
CREATED:20171025T181845Z
LAST-MODIFIED:20240626T104734Z
UID:11223-1509181200-1509181200@stmatthewshouse.org
SUMMARY:17th Annual Valencia CC Charity Golf Tournament
DESCRIPTION:This October\, Valencia Golf and Country Club will host the 17th Annual Charity Golf Charity Tournament.  All proceeds will go to benefit the St. Matthew’s House. Your involvement with the charity tournament will aid St. Matthew’s House’s shelters to provide food and shelter to the homeless in our community. \nDetails\n\n\nDate: Saturday October 28\, 2017\nTime: 9:00 AM Shotgun Start\nEntry Fee: $75 Per Player\nIncludes Golf\, Lunch & Prizes\nFormat: 4 Person Scramble (Non-Handicapped)
URL:https://stmatthewshouse.org/event/1258/
ATTACH;FMTTYPE=image/jpeg:https://stmatthewshouse.org/wp-content/uploads/2024/06/CROPED-GOLF.jpg
END:VEVENT
END:VCALENDAR