BEGIN:VCALENDAR
VERSION:2.0
PRODID:-//St. Matthew&#039;s House - ECPv6.15.20//NONSGML v1.0//EN
CALSCALE:GREGORIAN
METHOD:PUBLISH
X-ORIGINAL-URL:https://stmatthewshouse.org
X-WR-CALDESC:Events for St. Matthew&#039;s House
REFRESH-INTERVAL;VALUE=DURATION:PT1H
X-Robots-Tag:noindex
X-PUBLISHED-TTL:PT1H
BEGIN:VTIMEZONE
TZID:UTC
BEGIN:STANDARD
TZOFFSETFROM:+0000
TZOFFSETTO:+0000
TZNAME:UTC
DTSTART:20160101T000000
END:STANDARD
END:VTIMEZONE
BEGIN:VEVENT
DTSTART;TZID=UTC:20170627T170000
DTEND;TZID=UTC:20170627T190000
DTSTAMP:20260424T094020
CREATED:20170701T000328Z
LAST-MODIFIED:20240626T104818Z
UID:11190-1498582800-1498590000@stmatthewshouse.org
SUMMARY:Night of Praise
DESCRIPTION:Join us under the breezeway for a night of music.
URL:https://stmatthewshouse.org/event/night-of-praise/
END:VEVENT
END:VCALENDAR