BEGIN:VCALENDAR
VERSION:2.0
PRODID:-//St. Matthew&#039;s House - ECPv6.15.20//NONSGML v1.0//EN
CALSCALE:GREGORIAN
METHOD:PUBLISH
X-ORIGINAL-URL:https://stmatthewshouse.org
X-WR-CALDESC:Events for St. Matthew&#039;s House
REFRESH-INTERVAL;VALUE=DURATION:PT1H
X-Robots-Tag:noindex
X-PUBLISHED-TTL:PT1H
BEGIN:VTIMEZONE
TZID:UTC
BEGIN:STANDARD
TZOFFSETFROM:+0000
TZOFFSETTO:+0000
TZNAME:UTC
DTSTART:20160101T000000
END:STANDARD
END:VTIMEZONE
BEGIN:VEVENT
DTSTART;TZID=UTC:20170228T080000
DTEND;TZID=UTC:20170228T170000
DTSTAMP:20260424T150419
CREATED:20170228T163039Z
LAST-MODIFIED:20240626T104841Z
UID:11102-1488268800-1488301200@stmatthewshouse.org
SUMMARY:BaconFest Naples
DESCRIPTION:
URL:https://stmatthewshouse.org/event/baconfest-naples/
ATTACH;FMTTYPE=image/png:https://stmatthewshouse.org/wp-content/uploads/2024/06/Baconfest_logo_400.png
END:VEVENT
BEGIN:VEVENT
DTSTART;TZID=UTC:20170228T080000
DTEND;TZID=UTC:20170228T170000
DTSTAMP:20260424T150419
CREATED:20170228T173930Z
LAST-MODIFIED:20240626T104836Z
UID:11138-1488268800-1488301200@stmatthewshouse.org
SUMMARY:18th Annual Rev. Dr. Martin Luther King Jr. Parade
DESCRIPTION:St. Matthew’s House Thrift Stores will be joining the festivities on parade day. \nBring out the whole family to celebrate this annual event! \nDAVID ALBERS/STAFF– Scenes from the annual Martin Luther King Jr. Day parade in downtown Naples on Monday\, Jan. 20\, 2014.
URL:https://stmatthewshouse.org/event/18th-annual-rev-dr-martin-luther-king-jr-parade/
ATTACH;FMTTYPE=image/jpeg:https://stmatthewshouse.org/wp-content/uploads/2024/06/0121_NCLO_DA_MLKPARADE252_3678323_ver1.0_640_480.jpg
END:VEVENT
END:VCALENDAR