BEGIN:VCALENDAR
VERSION:2.0
PRODID:-//St. Matthew&#039;s House - ECPv6.15.20//NONSGML v1.0//EN
CALSCALE:GREGORIAN
METHOD:PUBLISH
X-ORIGINAL-URL:https://stmatthewshouse.org
X-WR-CALDESC:Events for St. Matthew&#039;s House
REFRESH-INTERVAL;VALUE=DURATION:PT1H
X-Robots-Tag:noindex
X-PUBLISHED-TTL:PT1H
BEGIN:VTIMEZONE
TZID:UTC
BEGIN:STANDARD
TZOFFSETFROM:+0000
TZOFFSETTO:+0000
TZNAME:UTC
DTSTART:20160101T000000
END:STANDARD
END:VTIMEZONE
BEGIN:VEVENT
DTSTART;TZID=UTC:20170224T080000
DTEND;TZID=UTC:20170224T170000
DTSTAMP:20260424T161630
CREATED:20170224T152445Z
LAST-MODIFIED:20240626T104845Z
UID:11077-1487923200-1487955600@stmatthewshouse.org
SUMMARY:Candlelight Vigil
DESCRIPTION:On the longest night of the year\, December 21st\, we will join with over 180 cities and memorialize the lives that have been lost due to homelessness. \nPlease join us for a Candlelight vigil on National Homeless Persons’ Memorial Day to commemorate the lives of the homeless member
URL:https://stmatthewshouse.org/event/candlelight-vigil/
ATTACH;FMTTYPE=image/jpeg:https://stmatthewshouse.org/wp-content/uploads/2024/06/IMG_2595-e1482527531379-1.jpg
END:VEVENT
END:VCALENDAR