BEGIN:VCALENDAR
VERSION:2.0
PRODID:-//St. Matthew&#039;s House - ECPv6.15.20//NONSGML v1.0//EN
CALSCALE:GREGORIAN
METHOD:PUBLISH
X-ORIGINAL-URL:https://stmatthewshouse.org
X-WR-CALDESC:Events for St. Matthew&#039;s House
REFRESH-INTERVAL;VALUE=DURATION:PT1H
X-Robots-Tag:noindex
X-PUBLISHED-TTL:PT1H
BEGIN:VTIMEZONE
TZID:UTC
BEGIN:STANDARD
TZOFFSETFROM:+0000
TZOFFSETTO:+0000
TZNAME:UTC
DTSTART:20150101T000000
END:STANDARD
END:VTIMEZONE
BEGIN:VEVENT
DTSTART;TZID=UTC:20161119T080000
DTEND;TZID=UTC:20161119T110000
DTSTAMP:20260424T203507
CREATED:20170228T161749Z
LAST-MODIFIED:20240626T104901Z
UID:11095-1479542400-1479553200@stmatthewshouse.org
SUMMARY:Heroes for Homeless 5K
DESCRIPTION:Race Press\nPresident and CEO of St. Matthew’s House\, Vann Ellison\, writes about the race in the Naples Daily News. \nAbout the Race\nHeroes for Homeless 5K is a fun\, family-oriented event to benefit the homeless of Southwest Florida.  All proceeds go to St. Matthew’s House\, a non-profit organization providing innovative solutions to fight homelessness\, hunger\, substance abuse\, and poverty.  Join the Collier County Special Operations Units and other members of the community for activities for all ages. \nWe invite the serious runner\, the weekend jogger\, and families with children to come enjoy this beautiful course around the lakes at Ave Maria. \nCost\n• After 10/1- $27.50\n• Day of race- $30.00\n• Student (7-22) – $15.00\n• Children (6 and under) – Free \nRace Flyer\n5K Flyer (PDF) \nThank You to Our Sponsors
URL:https://stmatthewshouse.org/event/heroes-for-homeless-5k/
ATTACH;FMTTYPE=image/png:https://stmatthewshouse.org/wp-content/uploads/2024/06/5K_Sponsors.png
END:VEVENT
END:VCALENDAR