BEGIN:VCALENDAR
VERSION:2.0
PRODID:-//St. Matthew&#039;s House - ECPv6.15.20//NONSGML v1.0//EN
CALSCALE:GREGORIAN
METHOD:PUBLISH
X-ORIGINAL-URL:https://stmatthewshouse.org
X-WR-CALDESC:Events for St. Matthew&#039;s House
REFRESH-INTERVAL;VALUE=DURATION:PT1H
X-Robots-Tag:noindex
X-PUBLISHED-TTL:PT1H
BEGIN:VTIMEZONE
TZID:UTC
BEGIN:STANDARD
TZOFFSETFROM:+0000
TZOFFSETTO:+0000
TZNAME:UTC
DTSTART:20140101T000000
END:STANDARD
END:VTIMEZONE
BEGIN:VEVENT
DTSTART;TZID=UTC:20150629T180000
DTEND;TZID=UTC:20150629T190000
DTSTAMP:20260425T224745
CREATED:20170228T165038Z
LAST-MODIFIED:20240626T104923Z
UID:11112-1435600800-1435604400@stmatthewshouse.org
SUMMARY:Justin’s Place Recovery Program Graduation
DESCRIPTION:
URL:https://stmatthewshouse.org/event/justins-place-recovery-program-graduation-3/
CATEGORIES:Featured event
END:VEVENT
END:VCALENDAR